BEGIN:VCALENDAR
VERSION:2.0
PRODID:-//ChamberMaster//Event Calendar 2.0//EN
METHOD:PUBLISH
X-PUBLISHED-TTL:P3D
REFRESH-INTERVAL:P3D
CALSCALE:GREGORIAN
BEGIN:VEVENT
DTSTART:20171102T130000Z
DTEND:20171102T141500Z
X-MICROSOFT-CDO-ALLDAYEVENT:FALSE
SUMMARY:Coffee and Campus Tour at Primrose Hill School
DESCRIPTION:Join us for coffee and we will take you on a tour of the campus\, visit the animals and answer any questions you might have about Waldorf education or Primrose Hill School. Children are welcome. First Thursdays of the month.
X-ALT-DESC;FMTTYPE=text/html:Join us for coffee and we will take you on a tour of the campus\, visit the animals and answer any questions you might have about Waldorf education or Primrose Hill School. Children are welcome. First Thursdays of the month.
LOCATION:Primrose Hill School 23 Spring Brook Park Rhinebeck\, NY 12572
UID:e.2770.10476439
SEQUENCE:3
DTSTAMP:20260426T020759Z
URL:https://business.dcrcoc.org/events/details/coffee-and-campus-tour-at-primrose-hill-school-10476439
END:VEVENT

END:VCALENDAR
