BEGIN:VCALENDAR
VERSION:2.0
PRODID:-//ChamberMaster//Event Calendar 2.0//EN
METHOD:PUBLISH
X-PUBLISHED-TTL:P3D
REFRESH-INTERVAL:P3D
CALSCALE:GREGORIAN
BEGIN:VEVENT
DTSTART:20180830T200000Z
DTEND:20180830T230000Z
X-MICROSOFT-CDO-ALLDAYEVENT:FALSE
SUMMARY:Coldwell Banker Village Green - Grand Opening Rhinebeck Office
DESCRIPTION:Coldwell Banker Village Green is excited to show off our new Rhinebeck office!\n\nJoin us for our Grand Opening on Thursday\, August 30th from 4PM-7PM and enjoy live music\, refreshements and light fare. Art show by local artist Lila Bacon and China Jorrin!
X-ALT-DESC;FMTTYPE=text/html:Coldwell Banker Village Green is excited to show off our new Rhinebeck office!<br />\nJoin us for our Grand Opening on Thursday\, August 30th from 4PM-7PM and enjoy live music\, refreshements and light fare. Art show by local artist Lila Bacon and China Jorrin!
LOCATION:6423 Montgomery Street\, Rhinebeck NY
UID:e.2770.10479433
SEQUENCE:3
DTSTAMP:20260425T144728Z
URL:https://business.dcrcoc.org/events/details/coldwell-banker-village-green-grand-opening-rhinebeck-office-10479433
END:VEVENT

END:VCALENDAR
