BEGIN:VCALENDAR
VERSION:2.0
PRODID:-//ChamberMaster//Event Calendar 2.0//EN
METHOD:PUBLISH
X-PUBLISHED-TTL:P3D
REFRESH-INTERVAL:P3D
CALSCALE:GREGORIAN
BEGIN:VEVENT
DTSTART:20180825T150000Z
DTEND:20180825T180000Z
X-MICROSOFT-CDO-ALLDAYEVENT:FALSE
SUMMARY:Collage Workshop with Marisa Moeller
DESCRIPTION:Explore the technique of Collage - not only as a unique art form\, but as a form of relaxation and meditation. Create in a unstructured\, relaxing environment. All skill levels are welcome!\n\n\n\nEmail- info@barrettartcenter.org\n\nPhone- 845-471-2550
X-ALT-DESC;FMTTYPE=text/html:<div>\n<div style="margin-left:-17px\; margin-right:-17px">\n<div>\n<p><span style="font-size:14px">Explore the technique of Collage - not only as a unique art form\, but as a form of relaxation and meditation. Create in a unstructured\, relaxing environment. All skill levels are welcome!</span><br />\n<br />\n<span style="font-size:12px"><strong>Email-&nbsp\;<span style="text-align:center">info@barrettartcenter.org<br />\nPhone- 845-471-2550</span></strong></span></p>\n</div>\n\n<div>\n<div>\n<div>\n<div>&nbsp\;</div>\n\n<div>&nbsp\;</div>\n\n<div>&nbsp\;</div>\n\n<div>&nbsp\;</div>\n\n<div>&nbsp\;</div>\n&nbsp\;\n\n<div>&nbsp\;</div>\n</div>\n</div>\n</div>\n</div>\n</div>\n\n<div>\n<div style="margin-left:-17px\; margin-right:-17px">\n<div>&nbsp\;</div>\n</div>\n</div>\n\n<div>\n<div>\n<div>&nbsp\;</div>\n</div>\n</div>\n
LOCATION:Dutchess County Art Association/Barrett Art Center: 55 Noxon Street\, Pouhgkeepsie\, NY 12601
UID:e.2770.10479400
SEQUENCE:3
DTSTAMP:20260425T143815Z
URL:https://business.dcrcoc.org/events/details/collage-workshop-with-marisa-moeller-10479400
END:VEVENT

END:VCALENDAR
