BEGIN:VCALENDAR
VERSION:2.0
PRODID:-//ChamberMaster//Event Calendar 2.0//EN
METHOD:PUBLISH
X-PUBLISHED-TTL:P3D
REFRESH-INTERVAL:P3D
CALSCALE:GREGORIAN
BEGIN:VEVENT
DTSTART:20171015T170000Z
DTEND:20171015T210000Z
X-MICROSOFT-CDO-ALLDAYEVENT:FALSE
SUMMARY:Barrett Art Center's Collector's Circle Studio Visit & Gallery Tour : Tanya Marcuse
DESCRIPTION:Join us at The Hessel Museum at Bard College for a tour of their current photography exhibition\, followed by seasonably-inspired refreshments on the grounds at Montgomery Place and their current exhibition on Garden Tools\, with time to explore each.  Visit at Tanya Marcuse's studio begins at 4pm.
X-ALT-DESC;FMTTYPE=text/html:<span style="background-color:rgb(240\, 244\, 244)\; color:rgb(0\, 10\, 10)\; font-family:source sans pro\; font-size:16px">Join us at The Hessel Museum at Bard College for a tour of their current photography exhibition\, followed by seasonably-inspired refreshments on the grounds at Montgomery Place and their current exhibition on Garden Tools\, with time to explore each. &nbsp\;Visit at Tanya Marcuse&#39\;s studio begins at 4pm.</span>
LOCATION:The Hessel Museum Montgomery Place Tanya Marcuse Studio
UID:e.2770.10476351
SEQUENCE:3
DTSTAMP:20260426T033442Z
URL:https://business.dcrcoc.org/events/details/collector-s-circle-studio-visit-gallery-tour-tanya-marcuse-10476351
END:VEVENT

END:VCALENDAR
