BEGIN:VCALENDAR
VERSION:2.0
PRODID:-//ChamberMaster//Event Calendar 2.0//EN
METHOD:PUBLISH
X-PUBLISHED-TTL:P3D
REFRESH-INTERVAL:P3D
CALSCALE:GREGORIAN
BEGIN:VEVENT
DTSTART:20180301T223000Z
DTEND:20180302T003000Z
X-MICROSOFT-CDO-ALLDAYEVENT:FALSE
SUMMARY:Colon Cancer Awareness: Do Blue Bash
DESCRIPTION:Help us officially kick off Colon Cancer Awareness Month at the fourth annual Do Blue Bash. Get inspired by survivors and support our effort to provide screening to the underserved in our community. BLUE ATTIRE ENCOURAGED!
X-ALT-DESC;FMTTYPE=text/html:Help us officially kick off Colon Cancer Awareness Month at the fourth annual Do Blue Bash. Get inspired by survivors and support our effort to provide screening to the underserved in our community. BLUE ATTIRE ENCOURAGED!
LOCATION:Canvas 305 Main Street\, Poughkeepsie\, NY
UID:e.2770.10476722
SEQUENCE:3
DTSTAMP:20260425T210350Z
URL:https://business.dcrcoc.org/events/details/colon-cancer-awareness-do-blue-bash-10476722
END:VEVENT

END:VCALENDAR
