BEGIN:VCALENDAR
VERSION:2.0
PRODID:-//ChamberMaster//Event Calendar 2.0//EN
METHOD:PUBLISH
X-PUBLISHED-TTL:P3D
REFRESH-INTERVAL:P3D
CALSCALE:GREGORIAN
BEGIN:VEVENT
DTSTART:20180329T230000Z
DTEND:20180330T000000Z
X-MICROSOFT-CDO-ALLDAYEVENT:FALSE
SUMMARY:Seminar: Common Mistakes in Estate Planning
DESCRIPTION:It is not uncommon for there to be significant and costly mistakes in the estate and wealth transfer plans of affluent Americans. Most of these estate owners do not understand the nature of the mistakes\, their consequences\, or the fact that solutions exist.\n\n\n\nThis presentation is intended to help you uncover wealth transfer mistakes in your estate plan\, and help establish an action plan for identifying and implementing common and popular solutions.\n\n\n\nFree admission.
X-ALT-DESC;FMTTYPE=text/html:<span style="color:rgb(75\, 79\, 86)\; font-family:sf optimized\,system-ui\,-apple-system\,system-ui\,.sfnstext-regular\,sans-serif\; font-size:14px">It is not uncommon for there to be significant and costly mistakes in the estate and wealth transfer plans of affluent Americans. Most of these estate owners do not understand the nature of the mistakes\, their consequences\, or the fact that solutions exist.</span><br />\n<br />\n<span style="color:rgb(75\, 79\, 86)\; font-family:sf optimized\,system-ui\,-apple-system\,system-ui\,.sfnstext-regular\,sans-serif\; font-size:14px">This presentation is intended to help you uncover wealth transfer mistakes in your estate plan\, and help establish an action plan for identifying and implementing common and popular solutions.<br />\n<br />\nFree admission.</span>
LOCATION:Boardman Road Branch Library 141 Boardman Rd\, Poughkeepsie\, New York 12603
UID:e.2770.10476289
SEQUENCE:3
DTSTAMP:20260425T210526Z
URL:https://business.dcrcoc.org/events/details/common-mistakes-in-estate-planning-10476289
END:VEVENT

END:VCALENDAR
