BEGIN:VCALENDAR
VERSION:2.0
PRODID:-//ChamberMaster//Event Calendar 2.0//EN
METHOD:PUBLISH
X-PUBLISHED-TTL:P3D
REFRESH-INTERVAL:P3D
CALSCALE:GREGORIAN
BEGIN:VEVENT
DTSTART:20190406T183000Z
DTEND:20190406T193000Z
X-MICROSOFT-CDO-ALLDAYEVENT:FALSE
SUMMARY:Common Mistakes in Estate Planning Seminar
DESCRIPTION:A free\, informational workshop\, discussing how you can help minimize your estate taxes while maximizing the assets you pass to your heirs. \n\nYou will learn: \n\n  how to help uncover your wealth transfer mistakes\n\n  how to avoid probate\n\n  to provide solutions to the ten most common mistakes in estate planning\n\n  to help lay out a "roadmap" or action plan for implementing these solutions
X-ALT-DESC;FMTTYPE=text/html:<span style="color:#1D2129"><span style="font-family:arial\,sans-serif"><span style="font-size:10.5pt">A free\, informational workshop\, discussing how you can help minimize your estate taxes while maximizing the assets you pass to your heirs.&nbsp\;<br />\nYou will learn:&nbsp\;<br />\n&bull\; how to help uncover your wealth transfer mistakes</span></span></span><br />\n<span style="color:#1D2129"><span style="font-family:arial\,sans-serif"><span style="font-size:10.5pt">&bull\; how to avoid probate</span></span></span><br />\n<span style="color:#1D2129"><span style="font-family:arial\,sans-serif"><span style="font-size:10.5pt">&bull\; to provide solutions to the ten most common mistakes in estate planning</span></span></span><br />\n<span style="color:#1D2129"><span style="font-family:arial\,sans-serif"><span style="font-size:10.5pt">&bull\; to help lay out a &ldquo\;roadmap&rdquo\; or action plan for implementing these solutions</span></span></span>
LOCATION:Boardman Road Library\, 141 Boardman Rd\, Poughkeepsie\, NY 12603
UID:e.2770.10480195
SEQUENCE:3
DTSTAMP:20260423T062807Z
URL:https://business.dcrcoc.org/events/details/common-mistakes-in-estate-planning-seminar-10480195
END:VEVENT

END:VCALENDAR
