BEGIN:VCALENDAR
VERSION:2.0
PRODID:-//ChamberMaster//Event Calendar 2.0//EN
METHOD:PUBLISH
X-PUBLISHED-TTL:P3D
REFRESH-INTERVAL:P3D
CALSCALE:GREGORIAN
BEGIN:VEVENT
DTSTART:20180912T114500Z
DTEND:20180912T140000Z
X-MICROSOFT-CDO-ALLDAYEVENT:FALSE
SUMMARY:Community Conversations - Hosted by Girl Scouts Heart of the Hudson
DESCRIPTION:What are Community Conversations?  A forum to present data from the Girl Scout Research Institute\, with a focus on the health and well-being of the 26 million girls in the United States and Dutchess County.\n\n\n\nWho Should Attend?  This forum will convene a cross-section of partners and collaborators\, bringing together leaders in business\, the youth-serving arena\, education\, foundation work\, public policy\, and media.  \n\n\n\nWhy Attend?  To explore issues currently impacting the well-being of girls in our local community and the United States and in Dutchess County.
X-ALT-DESC;FMTTYPE=text/html:<strong><span style="font-family:arial\,sans-serif">What are Community Conversations?&nbsp\;</span></strong><span style="font-family:arial\,sans-serif"> A forum to present data from the Girl Scout Research Institute\, with a focus on the health and well-being of the 26 million girls in the United States and Dutchess County.<br />\n<br />\n<strong>Who Should Attend?</strong>&nbsp\; This forum will convene a cross-section of partners and collaborators\, bringing together leaders in business\, the youth-serving arena\, education\, foundation work\, public policy\, and media.&nbsp\;&nbsp\;<br />\n<br />\n<strong>Why Attend?</strong>&nbsp\; To explore issues currently impacting the well-being of girls in our local community and the United States and in Dutchess County.&nbsp\; &nbsp\;</span><br />\n<br />\n&nbsp\;
LOCATION:Location: The Eleanor Roosevelt Center at Val-Kill 106 Valkill Park Road Hyde Park\, NY 12538
UID:e.2770.10479453
SEQUENCE:3
DTSTAMP:20260425T131844Z
URL:https://business.dcrcoc.org/events/details/community-conversations-hosted-by-girl-scouts-heart-of-the-hudson-10479453
END:VEVENT

END:VCALENDAR
