BEGIN:VCALENDAR
VERSION:2.0
PRODID:-//ChamberMaster//Event Calendar 2.0//EN
METHOD:PUBLISH
X-PUBLISHED-TTL:P3D
REFRESH-INTERVAL:P3D
CALSCALE:GREGORIAN
BEGIN:VEVENT
DTSTART:20181215T160000Z
DTEND:20181215T200000Z
X-MICROSOFT-CDO-ALLDAYEVENT:FALSE
SUMMARY:Community Figure Drawing at Barrett Art Center
DESCRIPTION:Saturday\, December\, 15 \n\n11am to 3pm\n\nMonthly\, third Saturday-\n\nDraw from a live\, professional model! \n\nFree and open to the public.\n\nPaper and drawing materials provided.
X-ALT-DESC;FMTTYPE=text/html:<h3 style="text-align:center"><strong>Saturday\, December\, 15 </strong><br />\n<strong>11am to 3pm</strong></h3>\n\n<h3 style="text-align:center">Monthly\, third Saturday-<br />\nDraw from a live\, professional model!&nbsp\;<br />\nFree and open to the public.<br />\nPaper and drawing materials provided.&nbsp\;</h3>\n
LOCATION:Barrett Art Center- 55 Noxon Street\, Poughkeepsie\, NY 12601
UID:e.2770.10479917
SEQUENCE:3
DTSTAMP:20260425T102632Z
URL:https://business.dcrcoc.org/events/details/community-figure-drawing-at-barrett-art-center-10479917
END:VEVENT

END:VCALENDAR
