BEGIN:VCALENDAR
VERSION:2.0
PRODID:-//ChamberMaster//Event Calendar 2.0//EN
METHOD:PUBLISH
X-PUBLISHED-TTL:P3D
REFRESH-INTERVAL:P3D
CALSCALE:GREGORIAN
BEGIN:VEVENT
DTSTART:20190922T180000Z
DTEND:20190922T210000Z
X-MICROSOFT-CDO-ALLDAYEVENT:FALSE
SUMMARY:Community Foundations of the Hudson Valley's 25th Annual Garden Party
DESCRIPTION:Join us as we celebrate the 25th annual Garden Party and 50th Anniversary of the Community Foundations. This momentous occasion will commemorate our path from Founders to the Future. Proceeds from this signature event help support our Community Grants program\, which has granted more than $1.3 million to nonprofits in our region.
X-ALT-DESC;FMTTYPE=text/html:Join us as we celebrate the 25th annual Garden Party and 50th Anniversary of the Community Foundations. This momentous occasion will commemorate our path from Founders to the Future. Proceeds from this signature event help support our Community Grants program\, which has granted more than $1.3 million to nonprofits in our region.
LOCATION:Mashomack Preserve Club 7435 Route 82 Pine Plains\, NY 12567
UID:e.2770.10480739
SEQUENCE:3
DTSTAMP:20260422T221048Z
URL:https://business.dcrcoc.org/events/details/community-foundations-of-the-hudson-valley-s-25th-annual-garden-party-10480739
END:VEVENT

END:VCALENDAR
