BEGIN:VCALENDAR
VERSION:2.0
PRODID:-//ChamberMaster//Event Calendar 2.0//EN
METHOD:PUBLISH
X-PUBLISHED-TTL:P3D
REFRESH-INTERVAL:P3D
CALSCALE:GREGORIAN
BEGIN:VEVENT
DTSTART:20180930T190000Z
DTEND:20180930T220000Z
X-MICROSOFT-CDO-ALLDAYEVENT:FALSE
SUMMARY:Community Foundations of the Hudson Valley's Annual Garden Party
DESCRIPTION:For more than twenty years\, the Community Foundations of the Hudson Valley has recognized individuals who are instrumental in improving lives through their community philanthropy. Proceeds from the annual Garden Party help support our Community Grants program\, which has granted over $1 million since 2000 directly to nonprofits in our region.
X-ALT-DESC;FMTTYPE=text/html:For more than twenty years\, the Community Foundations of the Hudson Valley has recognized individuals who are instrumental in improving lives through their community philanthropy. Proceeds from the annual Garden Party help support our Community Grants program\, which has granted over $1 million since 2000 directly to nonprofits in our region.
LOCATION:Bontecou Farm Keller Lane New Paltz\, NY 12561
UID:e.2770.10477793
SEQUENCE:3
DTSTAMP:20260425T131747Z
URL:https://business.dcrcoc.org/events/details/community-foundations-of-the-hudson-valley-s-annual-garden-party-10477793
END:VEVENT

END:VCALENDAR
