BEGIN:VCALENDAR
VERSION:2.0
PRODID:-//ChamberMaster//Event Calendar 2.0//EN
METHOD:PUBLISH
X-PUBLISHED-TTL:P3D
REFRESH-INTERVAL:P3D
CALSCALE:GREGORIAN
BEGIN:VEVENT
DTSTART:20190611T160000Z
DTEND:20190611T180000Z
X-MICROSOFT-CDO-ALLDAYEVENT:FALSE
SUMMARY:Community Luncheon
DESCRIPTION:Join us at the Community Luncheon to listen to our keynote speaker and honoree Sarah Ortiz talk about her journey to surviving child sexual assault which began with the help of very own Child Advocacy Center. \n\n\n\nWe will also be honoring six-year-old Tabitha Canning\, come hear how Tabitha is filling our community with smiles through Tabitha's Project Smile.
X-ALT-DESC;FMTTYPE=text/html:Join us at the Community Luncheon to listen to our keynote speaker and honoree Sarah Ortiz talk about her journey to surviving child sexual assault which began with the help of very own Child Advocacy Center.&nbsp\;<br />\n<br />\nWe will also be honoring six-year-old Tabitha Canning\, come hear how Tabitha is filling our community with smiles through Tabitha&#39\;s Project Smile.&nbsp\;
LOCATION:The Poughkeepsie Grand Hotel 40 Civic Center Plaza Poughkeepsie\, NY 12601
UID:e.2770.10480829
SEQUENCE:3
DTSTAMP:20260423T024930Z
URL:https://business.dcrcoc.org/events/details/community-luncheon-10480829
END:VEVENT

END:VCALENDAR
