BEGIN:VCALENDAR
VERSION:2.0
PRODID:-//ChamberMaster//Event Calendar 2.0//EN
METHOD:PUBLISH
X-PUBLISHED-TTL:P3D
REFRESH-INTERVAL:P3D
CALSCALE:GREGORIAN
BEGIN:VEVENT
DTSTART;VALUE=DATE:20200515
DTEND;VALUE=DATE:20200516
TRANSP:TRANSPARENT
X-MICROSOFT-CDO-ALLDAYEVENT:TRUE
SUMMARY:Complimentary Face Covering Distribution for Essential Dutchess County Businesses and Nonprofits
DESCRIPTION:***Registration is now closed.\n\n\n\nRegistration required.\n\n\n\nQuestions? Please Contact: Chelsea@dcrcoc.org\n\n\n\nReusable face coverings are being made available to essential businesses and nonprofit organizations located in Dutchess County. The face coverings are being provided by the United States Department of Health and Human Services in partnership with the State of New York\, Dutchess County Government\, Dutchess County Regional Chamber of Commerce\, Dutchess Tourism Inc. and Hudson Cadillac Buick GMC. The face coverings have been manufactured by Hanes out of 100% cotton material and will be distributed by REGISTRATION ONLY and can be picked up at the following locations\, dates and times.\n\n\n\n*Complimentary hand sanitizer for essential businesses will also be distributed and was proudly donated by Albany Distilling. Supply is limited. www.AlbanyDistilling.com\n\n\n\nPLEASE NOTE:\n\nSupplies are limited. We will not be able to accommodate all requests and we may change your request without notice. This is not a guarantee that you will receive. We will also confirm the use is for an essential business. If you do not show up on the date and time requested you have forfeited the ability to obtain the face coverings. We will not store or make special accommodations.\n\n\n\n***By way of accepting these face coverings you understand that this measure and devise may not prevent the spread of infectious disease and you hold harmless and absolve the United States Department of Health and Human Services\, State of New York\, Dutchess County Government\, Dutchess County Regional Chamber of Commerce\, Dutchess Tourism Inc. and Hudson Cadillac Buick GMC from any liability. Complimentary face coverings are limited in supply and availability. You may not receive the number of face coverings requested in your registration. Anyone that shows up without a copy of the registration will not be eligible to pick up face coverings.
X-ALT-DESC;FMTTYPE=text/html:<br />\n<span style="font-size:20px\;"><span style="font-family:times new roman\;"><strong><span style="background: yellow\;">***Registration is now closed.<br />\n<br />\nRegistration required.</span></strong></span></span><br />\n<br />\n<span style="font-size:16px\;"><span style="font-family:times new roman\;">Questions? Please Contact:&nbsp\;<strong><a href="mailto:Chelsea@dcrcoc.org"><span style="color: rgb(0\, 0\, 255)\;">Chelsea@dcrcoc.org</span></a></strong></span></span><br />\n<br />\n<span style="font-size:16px\;"><span style="font-family:times new roman\,serif\;">Reusable face coverings are being made available to essential businesses and nonprofit organizations located in Dutchess County. The face coverings are being provided by the United States Department of Health and Human Services in partnership with the State of New York\, Dutchess County Government\, Dutchess County Regional Chamber of Commerce\, Dutchess Tourism Inc. and Hudson Cadillac Buick GMC. The face coverings have been manufactured by Hanes out of 100% cotton material and will be distributed by REGISTRATION ONLY and can be picked up at the following locations\, dates and times.</span></span><br />\n<br />\n<span style="color:#000000\;"><span style="font-family:calibri\,sans-serif\;"><span style="font-size:11.0pt\;"><span style="font-size:16px\;"><span style="font-family:times new roman\;">*Complimentary hand sanitizer for essential businesses will also be distributed and was proudly donated by Albany Distilling. Supply is limited.&nbsp\;</span></span></span></span></span><strong><span style="font-family:times new roman\;"><span style="font-size:11.0pt\;"><a href="http://www.AlbanyDistilling.com" target="_blank"><span style="color:#0000FF\;">www.AlbanyDistilling.com</span></a></span></span></strong><br />\n<br />\n<span style="font-family:times new roman\,serif\;"><span style="font-size:12.0pt\;"><strong>PLEASE NOTE</strong>:</span></span><br />\n<span style="font-family:times new roman\,serif\;"><span style="font-size:12.0pt\;">Supplies are limited. We will not be able to accommodate all requests and we may change your request without notice. This is not a guarantee that you will receive. We will also confirm the use is for an essential business. If you do not show up on the date and time requested you have forfeited the ability to obtain the face coverings. We will not store or make special accommodations.</span></span><br />\n<br />\n<span style="font-family:times new roman\,serif\;"><span style="font-size:12.0pt\;">***By way of accepting these face coverings you understand that this measure and devise may not prevent the spread of infectious disease and you hold harmless and absolve the United States Department of Health and Human Services\, State of New York\, Dutchess County Government\, Dutchess County Regional Chamber of Commerce\, Dutchess Tourism Inc. and Hudson Cadillac Buick GMC from any liability. Complimentary face coverings are limited in supply and availability. You may not receive the number of face coverings requested in your registration. Anyone that shows up without a copy of the registration will not be eligible to pick up face coverings.</span></span><br />\n&nbsp\;
LOCATION:
UID:e.2770.10483267
SEQUENCE:3
DTSTAMP:20260422T063941Z
URL:https://business.dcrcoc.org/events/details/complimentary-face-covering-distribution-for-essential-dutchess-county-businesses-and-nonprofits-10483267
END:VEVENT

END:VCALENDAR
