BEGIN:VCALENDAR
VERSION:2.0
PRODID:-//ChamberMaster//Event Calendar 2.0//EN
METHOD:PUBLISH
X-PUBLISHED-TTL:P3D
REFRESH-INTERVAL:P3D
CALSCALE:GREGORIAN
BEGIN:VEVENT
DTSTART:20181003T223000Z
DTEND:20181003T233000Z
X-MICROSOFT-CDO-ALLDAYEVENT:FALSE
SUMMARY:Concussion Management at Orthopedic Associates
DESCRIPTION:Join us to learn the proper steps you should take if you or someone you know experiences a concussion.\n\nPresented by: Karl Ziermann\, DO\n\nSports Medicine / Concussion Specialist\n\nReserve your space online at\n\nhttp://bit.ly/OADCconcussionmanagement\n\nor call 845-454-0120 ext  1266
X-ALT-DESC;FMTTYPE=text/html:Join us to learn the proper steps you should take if you or someone you know experiences a concussion.<br />\nPresented by: Karl Ziermann\, DO<br />\nSports Medicine / Concussion Specialist<br />\nReserve your space online at<br />\nhttp://bit.ly/OADCconcussionmanagement<br />\nor call 845-454-0120 ext &nbsp\;1266
LOCATION:Orthopedic Associates of Dutchess County Poughkeepsie Conference Room 1910 South Road Poughkeepsie\, NY 12601
UID:e.2770.10479707
SEQUENCE:3
DTSTAMP:20260425T114949Z
URL:https://business.dcrcoc.org/events/details/concussion-management-at-orthopedic-associates-10479707
END:VEVENT

END:VCALENDAR
