BEGIN:VCALENDAR
VERSION:2.0
PRODID:-//ChamberMaster//Event Calendar 2.0//EN
METHOD:PUBLISH
X-PUBLISHED-TTL:P3D
REFRESH-INTERVAL:P3D
CALSCALE:GREGORIAN
BEGIN:VEVENT
DTSTART:20191015T213000Z
DTEND:20191015T233000Z
X-MICROSOFT-CDO-ALLDAYEVENT:FALSE
SUMMARY:Connect Plus
DESCRIPTION:Join WEDC and Ulster SCORE to meet and mingle with fellow women small business owners and entrepreneurs. Enjoy an evening of networking\, food\, and conversation.  Engage and build relationships with like-minded women from across the Hudson Valley who are working on starting and growing their businesses.\n\n\n\nConnect\, Expand\, Prosper!
X-ALT-DESC;FMTTYPE=text/html:<p><span style="font-size:16px">Join WEDC and Ulster SCORE to meet and mingle with fellow women small business owners and entrepreneurs. Enjoy an evening of networking\, food\, and conversation.&nbsp\; Engage and build relationships with like-minded women from across the Hudson Valley who are working on starting and growing their businesses.<br />\n<br />\n<strong>Connect\, Expand\, Prosper!</strong></span></p>\n
LOCATION:SUNY Ulster\, Kelder Center 491 Cottlekill Rd. Stone Ridge\, NY 12484
UID:e.2770.10481164
SEQUENCE:3
DTSTAMP:20260422T182705Z
URL:https://business.dcrcoc.org/events/details/connect-plus-10481164
END:VEVENT

END:VCALENDAR
