BEGIN:VCALENDAR
VERSION:2.0
PRODID:-//ChamberMaster//Event Calendar 2.0//EN
METHOD:PUBLISH
X-PUBLISHED-TTL:P3D
REFRESH-INTERVAL:P3D
CALSCALE:GREGORIAN
BEGIN:VEVENT
DTSTART:20180920T113000Z
DTEND:20180920T130000Z
X-MICROSOFT-CDO-ALLDAYEVENT:FALSE
SUMMARY:Contact Breakfast-Thursday\, September 20
DESCRIPTION:THURSDAY September 20th\n\n\n\nMonthly contact breakfast featuring a candidate forum between New York State Senator Sue Serino and challenger Karen Smythe.\n\n\n\nPlease send questions for the candidates in advance for consideration to richk@dcrcoc.org.\n\n\n\nAs you all know\, there are many people in need of our assistance. The Chamber's Ambassador committee has partnered with our Workforce Development Center to collect canned and dry goods at our Contact Breakfast. Your donations are greatly appreciated.\n\n\n\nSponsored by: MidHudson Regional Hospital\n\n\n\nNonprofits: The Art Effect\, New Horizons Resources\,Inc.\, Poughkeepsie Public Library District
X-ALT-DESC;FMTTYPE=text/html:<p><span style="font-size:16px\;"><span style="font-family:times new roman\;"><strong>THURSDAY</strong> September 20th<br />\n<br />\nMonthly contact breakfast featuring&nbsp\;a candidate forum between New York State Senator Sue Serino and challenger Karen Smythe.<br />\n<br />\nPlease send questions for the candidates in advance for consideration to&nbsp\;<strong><a href="mailto:richk@dcrcoc.org"><span style="color:#0000FF\;">richk@dcrcoc.org</span></a></strong></span></span>.<br />\n<br />\n<strong><em><span style="background-image: initial\; background-position: initial\; background-size: initial\; background-repeat: initial\; background-attachment: initial\; background-origin: initial\; background-clip: initial\;"><span style="color: red\;">As you all know\, there are many people in need of our assistance. The Chamber&#39\;s Ambassador committee has partnered with our Workforce Development Center to collect canned and dry goods at our Contact Breakfast. Your donations are greatly appreciated.</span></span></em></strong><br />\n<br />\n<span style="font-size:16px\;"><strong><span style="font-family:times new roman\;">Sponsored by: <a href="http://www.midhudsonregional.org/" target="_blank"><span style="color:#0000FF\;">MidHudson Regional Hospital</span></a><br />\n<br />\nNonprofits: <a href="https://feelthearteffect.org/" target="_blank"><span style="color:#0000FF\;">The Art Effect</span></a><span style="color:#000000\;">\,&nbsp\;</span><a href="http://www.nhrny.org" target="_blank"><span style="color:#0000FF\;">New Horizons Resources\,Inc.</span></a><span style="color:#000000\;">\,&nbsp\;</span><a href="http://www.poklib.org" target="_blank"><span style="color:#0000FF\;">Poughkeepsie Public Library District</span></a></span></strong></span></p>\n
LOCATION:The Poughkeepsie Grand Hotel & Conference Center 40 Civic Center Plaza Poughkeepsie\, NY 12601
UID:e.2770.10476505
SEQUENCE:3
DTSTAMP:20260425T131213Z
URL:https://business.dcrcoc.org/events/details/contact-breakfast-thursday-september-20-10476505
END:VEVENT

END:VCALENDAR
