BEGIN:VCALENDAR
VERSION:2.0
PRODID:-//ChamberMaster//Event Calendar 2.0//EN
METHOD:PUBLISH
X-PUBLISHED-TTL:P3D
REFRESH-INTERVAL:P3D
CALSCALE:GREGORIAN
BEGIN:VEVENT
DTSTART:20180227T000000Z
DTEND:20180227T020000Z
X-MICROSOFT-CDO-ALLDAYEVENT:FALSE
SUMMARY:CoolSculpt Event
DESCRIPTION:New Beginnings Plastic & Reconstructive Surgery will be joining the newly opened Hudson Valley Healing Center to offer a CoolSculpt event.  Dr. Silverman will make a presentation about CoolSculpting.  He will also offer free CoolSculpt consults.  Attendees will be able to relax and rejuvenate in the Salt Cave and explore the services offered at Hudson Valley Healing Center.  Learn the benefits of Himalayan salt therapy and how to eliminate fat without surgery.  There will be raffle giveaways for attendees. Please call 845-454-6392 to reserve your spot.
X-ALT-DESC;FMTTYPE=text/html:<span style="color:#000000\;"><span style="background-color: transparent\; font-family: roboto\; font-size: 14px\;">New Beginnings Plastic &amp\; Reconstructive Surgery will be joining the newly opened </span></span><a href="http://hudsonvalleyhealingcenter.com/" style="background-color: transparent\; box-sizing: border-box\; color: rgb(51\, 51\, 51)\; font-family: &amp\;quot\;Roboto&amp\;quot\;\; font-size: 14px\; font-style: normal\; font-variant: normal\; font-weight: 400\; letter-spacing: 0px\; orphans: 2\; text-align: left\; text-decoration: none\; text-indent: 0px\; text-transform: none\; -webkit-text-stroke-width: 0px\; white-space: normal\; word-spacing: 0px\;"><span style="color:#000000\;">Hudson Valley Healing Center&nbsp\;</span></a><span style="color:#000000\;"><span style="background-color: transparent\; font-family: roboto\; font-size: 14px\;">to offer a&nbsp\;CoolSculpt event.&nbsp\; Dr. Silverman will make a presentation about CoolSculpting.&nbsp\; He will also offer free CoolSculpt consults.&nbsp\; Attendees will be able to relax and rejuvenate in the Salt Cave and explore the services offered at Hudson Valley Healing Center.&nbsp\; Learn the benefits of Himalayan salt therapy and how to eliminate fat without surgery.&nbsp\; There will be raffle giveaways for attendees. Please call 845-454-6392 to reserve your spot.</span></span>
LOCATION:Hudson Valley Healing Center ?51 Springside Ave Poughkeepsie NY 12603
UID:e.2770.10476785
SEQUENCE:3
DTSTAMP:20260425T232141Z
URL:https://business.dcrcoc.org/events/details/coolsculpt-event-10476785
END:VEVENT

END:VCALENDAR
