BEGIN:VCALENDAR
VERSION:2.0
PRODID:-//ChamberMaster//Event Calendar 2.0//EN
METHOD:PUBLISH
X-PUBLISHED-TTL:P3D
REFRESH-INTERVAL:P3D
CALSCALE:GREGORIAN
BEGIN:VEVENT
DTSTART:20200417T231500Z
DTEND:20200418T003000Z
X-MICROSOFT-CDO-ALLDAYEVENT:FALSE
SUMMARY:Cosmic Hockey
DESCRIPTION:Open game for players 9-12
X-ALT-DESC;FMTTYPE=text/html:Open game for players 9-12
LOCATION:MJN Convention Center Poughkeepsie NY
UID:e.2770.10483205
SEQUENCE:3
DTSTAMP:20260422T081213Z
URL:https://business.dcrcoc.org/events/details/cosmic-hockey-04-17-2020-10483205
END:VEVENT

END:VCALENDAR
