BEGIN:VCALENDAR
VERSION:2.0
PRODID:-//ChamberMaster//Event Calendar 2.0//EN
METHOD:PUBLISH
X-PUBLISHED-TTL:P3D
REFRESH-INTERVAL:P3D
CALSCALE:GREGORIAN
BEGIN:VEVENT
DTSTART:20180615T220000Z
DTEND:20180616T030000Z
X-MICROSOFT-CDO-ALLDAYEVENT:FALSE
SUMMARY:County Players 60th Anniversary Diamond Jubilee Gala
DESCRIPTION:County Players\, Inc.\, one of the longest-established community theaters in the area\, currently recognizing its 60th Anniversary Season\, will bring down the curtain on its special year-long celebration and festivities with a fabulous Diamond Jubilee Gala at The Grandview in Poughkeepsie. The evening will include an elegant cocktail reception (with specialty cocktail)\, four-course dinner\, dancing to DJ Mad Mike\, special entertainment\, silent auction and raffle prizes\, and the best view of the Hudson River!
X-ALT-DESC;FMTTYPE=text/html:County Players\, Inc.\, one of the longest-established community theaters in the area\, currently recognizing its 60th Anniversary Season\, will bring down the curtain on its special year-long celebration and festivities with a fabulous Diamond Jubilee Gala at The Grandview in Poughkeepsie. The evening will include an elegant cocktail reception (with specialty cocktail)\, four-course dinner\, dancing to DJ Mad Mike\, special entertainment\, silent auction and raffle prizes\, and the best view of the Hudson River!
LOCATION:The Grandview Poughkeepsie\, NY
UID:e.2770.10476821
SEQUENCE:3
DTSTAMP:20260425T182004Z
URL:https://business.dcrcoc.org/events/details/county-players-60th-anniversary-diamond-jubilee-gala-10476821
END:VEVENT

END:VCALENDAR
