BEGIN:VCALENDAR
VERSION:2.0
PRODID:-//ChamberMaster//Event Calendar 2.0//EN
METHOD:PUBLISH
X-PUBLISHED-TTL:P3D
REFRESH-INTERVAL:P3D
CALSCALE:GREGORIAN
BEGIN:VEVENT
DTSTART:20180513T010000Z
DTEND:20180513T023000Z
X-MICROSOFT-CDO-ALLDAYEVENT:FALSE
SUMMARY:County Players presents the Classic Hit Musical: "Guys & Dolls"
DESCRIPTION:"GUYS & DOLLS" County Players tops off their celebratory 60th Anniversary Season with one of the best musical comedies of all time. The popular Tony-winning musical is based on a story and characters of Damon Runyon\, with Music and Lyrics by Frank Loesser\, Book by Jo Swerling and Abe Burrows. Directed by Christine Crawfis\, with musical direction by Joel Flowers\, and choreography by Gabriela Morris. Sponsored by Di'Vine Wine Bar\, Vassar College\, and Marshall & Sterling
X-ALT-DESC;FMTTYPE=text/html:&quot\;GUYS &amp\; DOLLS&quot\; County Players tops off their celebratory 60th Anniversary Season with one of the best musical comedies of all time. The popular Tony-winning musical is based on a story and characters of Damon Runyon\, with Music and Lyrics by Frank Loesser\, Book by Jo Swerling and Abe Burrows. Directed by Christine Crawfis\, with musical direction by Joel Flowers\, and choreography by Gabriela Morris. Sponsored by Di&rsquo\;Vine Wine Bar\, Vassar College\, and Marshall &amp\; Sterling
LOCATION:County Players Falls Theatre 2681 W. Main Street\, Wappingers Falls
UID:e.2770.10477725
SEQUENCE:3
DTSTAMP:20260425T195321Z
URL:https://business.dcrcoc.org/events/details/county-players-presents-the-classic-hit-musical-guys-dolls-05-12-2018-10477725
END:VEVENT

END:VCALENDAR
