BEGIN:VCALENDAR
VERSION:2.0
PRODID:-//ChamberMaster//Event Calendar 2.0//EN
METHOD:PUBLISH
X-PUBLISHED-TTL:P3D
REFRESH-INTERVAL:P3D
CALSCALE:GREGORIAN
BEGIN:VEVENT
DTSTART:20180211T180000Z
DTEND:20180211T210000Z
X-MICROSOFT-CDO-ALLDAYEVENT:FALSE
SUMMARY:County Players to offer FREE Open House and Theatre Tours
DESCRIPTION:To celebrate their 60th Anniversary of producing quality theatrical productions\, and to give a glimpse of the behind-the-scenes magic\, County Players all-volunteer community theater is opening their doors to beloved audience and community members\,
X-ALT-DESC;FMTTYPE=text/html:To celebrate their 60th Anniversary of producing quality theatrical productions\, and to give a glimpse of the behind-the-scenes magic\, County Players all-volunteer community theater is opening their doors to beloved audience and community members\,
LOCATION:County Players Falls Theatre\, 2681 W. Main\, Wappingers Falls\, NY.
UID:e.2770.10476783
SEQUENCE:3
DTSTAMP:20260425T232538Z
URL:https://business.dcrcoc.org/events/details/county-players-to-offer-free-open-house-and-theatre-tours-10476783
END:VEVENT

END:VCALENDAR
