BEGIN:VCALENDAR
VERSION:2.0
PRODID:-//ChamberMaster//Event Calendar 2.0//EN
METHOD:PUBLISH
X-PUBLISHED-TTL:P3D
REFRESH-INTERVAL:P3D
CALSCALE:GREGORIAN
BEGIN:VEVENT
DTSTART:20210306T173000Z
DTEND:20210306T183000Z
X-MICROSOFT-CDO-ALLDAYEVENT:FALSE
SUMMARY:COVID-19 and Caregiving
DESCRIPTION:Join us to learn about measures you can take to reduce the risk of exposure to COVID-19 for you and your loved one with dementia. Review guidelines for managing daily care safely at home and handling medical issues and doctor visits as they arise. Get tips for managing stress and coping with anxiety during this difficult time. To register call 800.272.3900.
X-ALT-DESC;FMTTYPE=text/html:<p><span style="color:rgb(34\, 34\, 34)\; font-family:times new roman\; font-size:12pt">Join us to learn about measures you can take to reduce the risk of exposure to COVID-19 for you and your loved one with dementia. Review guidelines for managing daily care safely at home and handling medical issues and doctor visits as they arise. Get tips for managing stress and coping with anxiety during this difficult time. To register call 800.272.3900.</span></p>\n\n<div>&nbsp\;</div>\n
LOCATION:
UID:e.2770.10484984
SEQUENCE:3
DTSTAMP:20260421T143939Z
URL:https://business.dcrcoc.org/events/details/covid-19-and-caregiving-10484984
END:VEVENT

END:VCALENDAR
