BEGIN:VCALENDAR
VERSION:2.0
PRODID:-//ChamberMaster//Event Calendar 2.0//EN
METHOD:PUBLISH
X-PUBLISHED-TTL:P3D
REFRESH-INTERVAL:P3D
CALSCALE:GREGORIAN
BEGIN:VEVENT
DTSTART:20170930T130000Z
DTEND:20171001T200000Z
X-MICROSOFT-CDO-ALLDAYEVENT:FALSE
SUMMARY:CRAFTED HV
DESCRIPTION:CRAFTED is a collection of American artisans offering quality\, handmade goods. It's a great place for unique finds and great way to support small businesses. Some of the categories that will be represented are apparel\, jewelry\, home goods and decor\, art\, gourmet food\, and lots of other great stuff! Just in time for holiday shopping! Admission is $10 (cash only) at the door. Kids under 16 are free!The event is held September 30 - October 1\, 2017 at Dutchess Stadium\, a minor league stadium located in beautiful Dutchess County in the Hudson River Valley. This is an outdoor event and will take place rain or shine.
X-ALT-DESC;FMTTYPE=text/html:CRAFTED is a collection of American artisans offering quality\, handmade goods. It&#39\;s a great place for unique finds and great way to support small businesses. Some of the categories that will be represented are apparel\, jewelry\, home goods and decor\, art\, gourmet food\, and lots of other great stuff! Just in time for holiday shopping! Admission is $10 (cash only) at the door. Kids under 16 are free!The event is held September 30 - October 1\, 2017 at Dutchess Stadium\, a minor league stadium located in beautiful Dutchess County in the Hudson River Valley. This is an outdoor event and will take place rain or shine.
LOCATION:Dutchess Stadium 1500 Route 9D Wappingers Falls\, NY 12590
UID:e.2770.10475988
SEQUENCE:3
DTSTAMP:20260426T033137Z
URL:https://business.dcrcoc.org/events/details/crafted-hv-10475988
END:VEVENT

END:VCALENDAR
