BEGIN:VCALENDAR
VERSION:2.0
PRODID:-//ChamberMaster//Event Calendar 2.0//EN
METHOD:PUBLISH
X-PUBLISHED-TTL:P3D
REFRESH-INTERVAL:P3D
CALSCALE:GREGORIAN
BEGIN:VEVENT
DTSTART:20171014T000000Z
DTEND:20171014T030000Z
X-MICROSOFT-CDO-ALLDAYEVENT:FALSE
SUMMARY:Crash & Byrne comes to The Alley Kat!
DESCRIPTION:Stop by and check out the music of Hudson Valley's premier acoustic cover band\, Crash & Byrne! Enjoy great food\, a fully stocked bar with 16 varieties of draft beer while you listen to local band Crash & Byrne play all your favorite tunes!\n\n\n\nCheck out the event details on our Facebook page:\n\n\n\nCrash & Byrne comes to The Alley Kat!
X-ALT-DESC;FMTTYPE=text/html:<span style="color:rgb(29\, 33\, 41)\; font-family:sf optimized\,system-ui\,-apple-system\,blinkmacsystemfont\,.sfnstext-regular\,sans-serif\; font-size:12px">Stop by and check out the music of Hudson Valley&#39\;s premier acoustic cover band\, Crash &amp\; Byrne! Enjoy great food\, a fully stocked bar with 16 varieties of draft beer while you listen to local band Crash &amp\; Byrne play all your favorite tunes!</span><br />\n<br />\nCheck out the event details on our Facebook page:<br />\n<br />\n<a href="https://www.facebook.com/events/483549478690474/?acontext=%7B%22source%22%3A5%2C%22page_id_source%22%3A1126955354040531%2C%22action_history%22%3A[%7B%22surface%22%3A%22page%22%2C%22mechanism%22%3A%22main_list%22%2C%22extra_data%22%3A%22%7B%5C%22page_id%5C%22%3A1126955354040531%2C%5C%22tour_id%5C%22%3Anull%7D%22%7D]%2C%22has_source%22%3Atrue%7D">Crash &amp\; Byrne comes to The Alley Kat!</a><br />\n<br />\n&nbsp\;
LOCATION:The Alley Kat 1677 US 9 Wappingers Falls\, New York\, NY 12590
UID:e.2770.10476345
SEQUENCE:3
DTSTAMP:20260426T033608Z
URL:https://business.dcrcoc.org/events/details/crash-byrne-comes-to-the-alley-kat-10476345
END:VEVENT

END:VCALENDAR
