BEGIN:VCALENDAR
VERSION:2.0
PRODID:-//ChamberMaster//Event Calendar 2.0//EN
METHOD:PUBLISH
X-PUBLISHED-TTL:P3D
REFRESH-INTERVAL:P3D
CALSCALE:GREGORIAN
BEGIN:VEVENT
DTSTART:20171214T220000Z
DTEND:20171215T000000Z
X-MICROSOFT-CDO-ALLDAYEVENT:FALSE
SUMMARY:Create Holiday Cards & Pipe-cleaner Canes
DESCRIPTION:During this arts and crafts activity\, designed for Workforce Connections and Youth One Stop participants\, we will create and color holiday cards and pipe-cleaner canes to be handed out next week at The Pines of Poughkeepsie.\n\n\n\nRegistration required. For more information and to RSVP\, contact Meredith Madden\, (845) 454-1700\, ext. 1002.
X-ALT-DESC;FMTTYPE=text/html:During this arts and crafts activity\, designed for Workforce Connections and Youth One Stop participants\, we will create and color holiday cards and pipe-cleaner canes to be handed out next week at The Pines of Poughkeepsie.<br />\n<br />\nRegistration required. For more information and to RSVP\, contact Meredith Madden\, (845) 454-1700\, ext. 1002.
LOCATION:Dutchess County Regional Chamber of Commerce Workforce Connections Office 1 Civic Center Plaza Poughkeepsie\, NY 12601
UID:e.2770.10476615
SEQUENCE:3
DTSTAMP:20260426T004942Z
URL:https://business.dcrcoc.org/events/details/create-holiday-cards-pipe-cleaner-canes-10476615
END:VEVENT

END:VCALENDAR
