BEGIN:VCALENDAR
VERSION:2.0
PRODID:-//ChamberMaster//Event Calendar 2.0//EN
METHOD:PUBLISH
X-PUBLISHED-TTL:P3D
REFRESH-INTERVAL:P3D
CALSCALE:GREGORIAN
BEGIN:VEVENT
DTSTART;VALUE=DATE:20181128
DTEND;VALUE=DATE:20181129
TRANSP:TRANSPARENT
X-MICROSOFT-CDO-ALLDAYEVENT:TRUE
SUMMARY:CreativesMXplores: Independent Media @ Risk
DESCRIPTION:CreativesMXplores: Independent Media @ Risk\n\nTech\, Money\, Policy and You\n\nA moderated conversation that explores our access to independent & local media voices.\n\nLearn how local creative entrepreneurs are getting together to discuss\, explore and find ways to tackle the issues facing independent\, local media. A robust discussion\, Q&A and mixer for all interested.\n\n\n\nCome have a voice!
X-ALT-DESC;FMTTYPE=text/html:<h3>CreativesMXplores: Independent Media @ Risk<br />\n<span style="font-size: 13px\;">Tech\, Money\, Policy and You</span></h3>\n\n<h4>A moderated conversation that explores our access to independent &amp\; local media voices.</h4>\n\n<p>Learn how local creative entrepreneurs are getting together to discuss\, explore and find ways to tackle the issues facing independent\, local media. A robust discussion\, Q&amp\;A and mixer for all interested.<br />\n<br />\nCome have a voice!&nbsp\;</p>\n
LOCATION:Cunneen-Hackett Arts Center 9 & 12 Vassar St\, Poughkeepsie\, NY 12601
UID:e.2770.10479822
SEQUENCE:3
DTSTAMP:20260425T101904Z
URL:https://business.dcrcoc.org/events/details/creativesmxplores-independent-media-risk-10479822
END:VEVENT

END:VCALENDAR
