BEGIN:VCALENDAR
VERSION:2.0
PRODID:-//ChamberMaster//Event Calendar 2.0//EN
METHOD:PUBLISH
X-PUBLISHED-TTL:P3D
REFRESH-INTERVAL:P3D
CALSCALE:GREGORIAN
BEGIN:VEVENT
DTSTART:20171112T200000Z
DTEND:20171112T210000Z
X-MICROSOFT-CDO-ALLDAYEVENT:FALSE
SUMMARY:Crown Heights Community Performance
DESCRIPTION:Enjoy great music and an afternoon snack with family and friends from the community!  All are welcome to this FREE  Crown Heights Community Performance featuring The Newyorkers Chorus.  Discover what's been going on at the Club House each Wednesday evening\, great a cappella music.  Light refreshments will be served and prizes will be offered in a free raffle to those in attendance. RSVP 814-564-4748 or just drop by !  Doors open at 2:30pm.
X-ALT-DESC;FMTTYPE=text/html:Enjoy great music and an afternoon snack with family and friends from the community!&nbsp\; All are welcome to this FREE&nbsp\; Crown Heights Community Performance featuring The Newyorkers Chorus.&nbsp\; Discover what&#39\;s been going on at the Club House each Wednesday evening\, great a cappella music.&nbsp\; Light refreshments will be served and prizes will be offered in a free raffle to those in attendance. RSVP 814-564-4748 or just drop by !&nbsp\; Doors open at 2:30pm. &nbsp\;
LOCATION:Crown Heights Club House 34 Nassau Road Poughkeepsie\, NY
UID:e.2770.10476552
SEQUENCE:3
DTSTAMP:20260426T020320Z
URL:https://business.dcrcoc.org/events/details/crown-heights-community-performance-10476552
END:VEVENT

END:VCALENDAR
