BEGIN:VCALENDAR
VERSION:2.0
PRODID:-//ChamberMaster//Event Calendar 2.0//EN
METHOD:PUBLISH
X-PUBLISHED-TTL:P3D
REFRESH-INTERVAL:P3D
CALSCALE:GREGORIAN
BEGIN:VEVENT
DTSTART:20180401T003000Z
DTEND:20180401T033000Z
X-MICROSOFT-CDO-ALLDAYEVENT:FALSE
SUMMARY:Cruise Control Comes to The Alley Kat!
DESCRIPTION:Cruise Control plays music that you can rock\, sing\, dance\, and party to. The Alley Kat has a fully stocked bar and serves some of the best comfort food in the area. Stop by and enjoy all of your favorite music and food as well as beer\, wine and mixed drinks!\nCheck out the event details on our Facebook page:\n\nCruise Control comes to The Alley Kat!
X-ALT-DESC;FMTTYPE=text/html:<p><span style="color:rgb(75\, 79\, 86)\; font-family:system-ui\,-apple-system\,blinkmacsystemfont\,.sfnstext-regular\,sans-serif\; font-size:14px">Cruise Control plays music that you can rock\, sing\, dance\, and party to. The Alley Kat has a fully stocked bar and serves some of the best comfort food in the area. Stop by and enjoy all of your favorite music and food as well as beer\, wine and mixed drinks!</span></p>\nCheck out the event details on our Facebook page:<br />\n<a href="https://www.facebook.com/events/213412432546557/">Cruise Control comes to The Alley Kat!</a>\n\n<h1>&nbsp\;</h1>\n
LOCATION:The Alley Kat 1677 US 9 Wappingers Falls\, New York\, NY 12590
UID:e.2770.10476876
SEQUENCE:3
DTSTAMP:20260425T210535Z
URL:https://business.dcrcoc.org/events/details/cruise-control-comes-to-the-alley-kat-10476876
END:VEVENT

END:VCALENDAR
