BEGIN:VCALENDAR
VERSION:2.0
PRODID:-//ChamberMaster//Event Calendar 2.0//EN
METHOD:PUBLISH
X-PUBLISHED-TTL:P3D
REFRESH-INTERVAL:P3D
CALSCALE:GREGORIAN
BEGIN:VEVENT
DTSTART:20190915T173000Z
DTEND:20190915T193000Z
X-MICROSOFT-CDO-ALLDAYEVENT:FALSE
SUMMARY:Custom Wood Calendar Workshop
DESCRIPTION:Create and customize your own reminder calendar. All materials and supplies will be provided for you!
X-ALT-DESC;FMTTYPE=text/html:Create and customize your own reminder calendar. All materials and supplies will be provided for you!
LOCATION:488 Freedom Plains Rd\, Suite 202\, Poughkeepsie\, NY 12603
UID:e.2770.10481169
SEQUENCE:3
DTSTAMP:20260422T215458Z
URL:https://business.dcrcoc.org/events/details/custom-wood-calendar-workshop-10481169
END:VEVENT

END:VCALENDAR
