BEGIN:VCALENDAR
VERSION:2.0
PRODID:-//ChamberMaster//Event Calendar 2.0//EN
METHOD:PUBLISH
X-PUBLISHED-TTL:P3D
REFRESH-INTERVAL:P3D
CALSCALE:GREGORIAN
BEGIN:VEVENT
DTSTART:20190503T210000Z
DTEND:20190504T000000Z
X-MICROSOFT-CDO-ALLDAYEVENT:FALSE
SUMMARY:Cut and Fold
DESCRIPTION:Immerse yourself in the fantastical world of Randy Orzano's artwork. His exquisite work explores the intersection and collaboration with one of the most humble creatures that surround us - bees. As part of his process\, Randy cuts and folds his ink and watercolor paintings and lays them in the beehives. Bees use their imagination and intuition as they make marks on the canvas or paper using wax or propolis.  Sometimes\, they remove sections of paper\, piece by piece\, with their mandibles. Mandibles are a pair of appendages near the mouth used to tear\, crush\, or carry\; They are also used to defend against predators. Gallery hours: Friday 2:00PM to 6:00PM\, Saturday 12:00PM to 6:00PM\, and by appointment.
X-ALT-DESC;FMTTYPE=text/html:Immerse yourself in the fantastical world of Randy Orzano&rsquo\;s artwork. His exquisite work explores the intersection and collaboration with one of the most humble creatures that surround us - bees. As part of his process\, Randy cuts and folds his ink and watercolor paintings and lays them in the beehives. Bees use their&nbsp\;imagination and intuition as they make marks on the canvas or paper using wax or propolis. &nbsp\;Sometimes\, they remove sections of paper\, piece by piece\, with their mandibles. Mandibles are a pair of appendages near the mouth used to tear\, crush\, or carry\; They are also used to defend against predators. Gallery hours: Friday 2:00PM to 6:00PM\, Saturday 12:00PM to 6:00PM\, and by appointment.
LOCATION:317 Main Street\, Poughkeepsie\, NY 12601
UID:e.2770.10480685
SEQUENCE:3
DTSTAMP:20260423T044319Z
URL:https://business.dcrcoc.org/events/details/cut-and-fold-10480685
END:VEVENT

END:VCALENDAR
