BEGIN:VCALENDAR
VERSION:2.0
PRODID:-//ChamberMaster//Event Calendar 2.0//EN
METHOD:PUBLISH
X-PUBLISHED-TTL:P3D
REFRESH-INTERVAL:P3D
CALSCALE:GREGORIAN
BEGIN:VEVENT
DTSTART:20181026T223000Z
DTEND:20181027T020000Z
X-MICROSOFT-CDO-ALLDAYEVENT:FALSE
SUMMARY:Dance For A Cure at Taconic Fitness
DESCRIPTION:Taconic Fitness is hosting their second annual Dance for a Cure Breast Cancer Benefit Event. 100% of the proceeds ill go to the Susan G. Komen Foundation. We have all been touched by the horrors of cancer in some form or another\, we all know someone who has lost a friend\, family member or neighbor. So please help us raise awareness and contribute to a worthy and necessary cause\, all while dancing the evening away to the sounds of the 70's & 80's freestyle music! We will serve hot and cold hors d'oeuvres\, feel free to BYOB. There will be raffle and door prizes as well. Semi dressy\, so 'Think Pink'!
X-ALT-DESC;FMTTYPE=text/html:Taconic Fitness is hosting their second annual Dance for a Cure Breast Cancer Benefit Event. 100% of the proceeds ill go to the Susan G. Komen Foundation. We have all been touched by the horrors of cancer in some form or another\, we all know someone who has lost a friend\, family member or neighbor. So please help us raise awareness and contribute to a worthy and necessary cause\, all while dancing the evening away to the sounds of the 70&#39\;s &amp\; 80&#39\;s freestyle music! We will serve hot and cold hors d&#39\;oeuvres\, feel free to BYOB. There will be raffle and door prizes as well. Semi dressy\, so &#39\;Think Pink&#39\;!
LOCATION:Taconic Fitness 190 Old Sylvan Lake Road Hopewell Junction\, NY 12533
UID:e.2770.10479794
SEQUENCE:3
DTSTAMP:20260425T115251Z
URL:https://business.dcrcoc.org/events/details/dance-for-a-cure-at-taconic-fitness-10479794
END:VEVENT

END:VCALENDAR
