BEGIN:VCALENDAR
VERSION:2.0
PRODID:-//ChamberMaster//Event Calendar 2.0//EN
METHOD:PUBLISH
X-PUBLISHED-TTL:P3D
REFRESH-INTERVAL:P3D
CALSCALE:GREGORIAN
BEGIN:VEVENT
DTSTART;VALUE=DATE:20190608
DTEND;VALUE=DATE:20190609
TRANSP:TRANSPARENT
X-MICROSOFT-CDO-ALLDAYEVENT:TRUE
SUMMARY:Darkside Bazaar outdoor flea market
DESCRIPTION:3rd annual Darkside Bazaar outdoor Flea Market returns June 8th at Darkside Records!\n#DarksideBazaar is an annual outdoor punk rock flea-market style event in the parking lot at Darkside Records in Poughkeepsie\, New York on June 9th\, 2018! The event will take place 11am - 6pm. There will be food\, live music\, a bouncy castle (for both adults and kids)\, vendors with all kinds of wares including local original art\, food\, music\, clothing\, comics\, collectibles\, and so much more. and of course\, it's all ages and FREE entry!! \n\nRSVP on facebook for updates & info: https://www.facebook.com/events/290755741580120 \nWe'll be collecting cash donations as well as donations of non-perishable pet-friendly items (pet food\, etc) for Hudson Valley Animal Rescue and Sanctuary\, a local non-profit\, no kill animal shelter!\n\n\n\nThere will be food served on site\, including The Poughkeepsie Grind who'll be serving coffee & treats\, Noshi's Coney PK Hot Dogs and El Azteca Mexican restaurant serving up delicious Mexican food! And yes\, there will be vegan & GF options!\n\n\n\nEnter to win prizes from the great folks at 92.7 & 96.9 WRRV\, who'll be onsite til 1pm! There will be free live music on our outdoor stage in the afternoon including Scoot Horton Music\, Ciarra Fragale\, Pitch Black Sunrise and more- so you can come enjoy some great local tunes while you hang!\n\n\n\nHere's some of the vendors you can check out:\n\n\n	Dream in Plastic\n	Atomic Annie's Accessories\n	Molly Monroe Apparel\n	Zombiepetz\n	It's a Trap Lando Shop\n	Abbey Gallagher: The Poet Is In\n	Hudson Valley Horrors\n	Other Worldly Waxes & Whatever\n	Sacred Herbs\n	Lou & Gee\n	Serina's Delights\n	Old Bones Designs\n	Chilling Chachkies\n	Crafted Arts by Erin Christine\n	Arts Of AGoldfire \n	RVictorious\n	NYC Subway Line\n	Cellar Door\n	Lethal Ware\n	The Other Side of Pampering\n	Dead Radio Podcast \n	Measured Time Shop\n	Stone Maple Farm\n	Nick's Horror Stuff \n	Life is Small Doses Photography\n	Designs Lestrange \n	The Moon: Infoshop and Community Space \n	Sk845 \n	The Nomadic Boutique \n	LSTees Design \n\n\nMore to be announced- want to be a vendor? Apply here: http://bit.ly/ds-bazaar-signup\n\nMore information is available at darksiderecords.com
X-ALT-DESC;FMTTYPE=text/html:<h1 style="font-style: italic\;"><strong>3rd annual Darkside Bazaar outdoor Flea Market returns June 8th at Darkside Records!</strong></h1>\n<a href="https://www.facebook.com/hashtag/darksidebazaar" style="color: rgb(56\, 88\, 152)\; cursor: pointer\; text-decoration-line: none\; font-family: system-ui\, -apple-system\, system-ui\, &quot\;.SFNSText-Regular&quot\;\, sans-serif\; font-size: 14px\; white-space: pre-wrap\;" target="_blank">#DarksideBazaar</a><span style="color:rgb(29\, 33\, 41)\; font-family:system-ui\,-apple-system\,system-ui\,.sfnstext-regular\,sans-serif\; font-size:14px"> is an annual outdoor punk rock flea-market style event in the parking lot at Darkside Records in Poughkeepsie\, New York on June 9th\, 2018! The event will take place 11am - 6pm. There will be food\, live music\, a bouncy castle (for both adults and kids)\, vendors with all kinds of wares including local original art\, food\, music\, clothing\, comics\, collectibles\, and so much more. and of course\, it&#39\;s all ages and FREE entry!! </span>\n\n<h2><strong>RSVP on facebook for updates &amp\; info:&nbsp\;<a href="https://business.facebook.com/events/290755741580120/">https://www.facebook.com/events/290755741580120</a>&nbsp\;</strong></h2>\n<span style="color:rgb(29\, 33\, 41)\; font-family:system-ui\,-apple-system\,system-ui\,.sfnstext-regular\,sans-serif\; font-size:14px">We&#39\;ll be collecting cash donations as well as donations of non-perishable pet-friendly items (pet food\, etc) for </span><a href="https://www.facebook.com/HVARS/" style="color: rgb(56\, 88\, 152)\; cursor: pointer\; text-decoration-line: none\; font-family: system-ui\, -apple-system\, system-ui\, &quot\;.SFNSText-Regular&quot\;\, sans-serif\; font-size: 14px\; white-space: pre-wrap\;" target="_blank">Hudson Valley Animal Rescue and Sanctuary</a><span style="color:rgb(29\, 33\, 41)\; font-family:system-ui\,-apple-system\,system-ui\,.sfnstext-regular\,sans-serif\; font-size:14px">\, a local non-profit\, no kill animal shelter!</span><br />\n<br />\n<span style="color:rgb(29\, 33\, 41)\; font-family:system-ui\,-apple-system\,system-ui\,.sfnstext-regular\,sans-serif\; font-size:14px">There will be food served on site\, including </span><a href="https://www.facebook.com/GrindPoughkeepsie/" style="color: rgb(56\, 88\, 152)\; cursor: pointer\; text-decoration-line: none\; font-family: system-ui\, -apple-system\, system-ui\, &quot\;.SFNSText-Regular&quot\;\, sans-serif\; font-size: 14px\; white-space: pre-wrap\;" target="_blank">The Poughkeepsie Grind</a><span style="color:rgb(29\, 33\, 41)\; font-family:system-ui\,-apple-system\,system-ui\,.sfnstext-regular\,sans-serif\; font-size:14px"> who&#39\;ll be serving coffee &amp\; treats\, </span><a href="https://www.facebook.com/NoshisConeyIsland/" style="color: rgb(56\, 88\, 152)\; cursor: pointer\; text-decoration-line: none\; font-family: system-ui\, -apple-system\, system-ui\, &quot\;.SFNSText-Regular&quot\;\, sans-serif\; font-size: 14px\; white-space: pre-wrap\;" target="_blank">Noshi&#39\;s Coney PK</a><span style="color:rgb(29\, 33\, 41)\; font-family:system-ui\,-apple-system\,system-ui\,.sfnstext-regular\,sans-serif\; font-size:14px"> Hot Dogs and </span><a href="https://www.facebook.com/ElAztecaMexicanDeli/" style="color: rgb(56\, 88\, 152)\; cursor: pointer\; text-decoration-line: none\; font-family: system-ui\, -apple-system\, system-ui\, &quot\;.SFNSText-Regular&quot\;\, sans-serif\; font-size: 14px\; white-space: pre-wrap\;" target="_blank">El Azteca Mexican</a><span style="color:rgb(29\, 33\, 41)\; font-family:system-ui\,-apple-system\,system-ui\,.sfnstext-regular\,sans-serif\; font-size:14px"> restaurant serving up delicious Mexican food! And yes\, there will be vegan &amp\; GF options!</span><br />\n<br />\n<span style="color:rgb(29\, 33\, 41)\; font-family:system-ui\,-apple-system\,system-ui\,.sfnstext-regular\,sans-serif\; font-size:14px">Enter to win prizes from the great folks at </span><a href="https://www.facebook.com/wrrvfm/" style="color: rgb(56\, 88\, 152)\; cursor: pointer\; text-decoration-line: none\; font-family: system-ui\, -apple-system\, system-ui\, &quot\;.SFNSText-Regular&quot\;\, sans-serif\; font-size: 14px\; white-space: pre-wrap\;" target="_blank">92.7 &amp\; 96.9 WRRV</a><span style="color:rgb(29\, 33\, 41)\; font-family:system-ui\,-apple-system\,system-ui\,.sfnstext-regular\,sans-serif\; font-size:14px">\, who&#39\;ll be onsite til 1pm! There will be free live music on our outdoor stage in the afternoon including </span><a href="https://www.facebook.com/Scoothortonmusic/" style="color: rgb(56\, 88\, 152)\; cursor: pointer\; text-decoration-line: none\; font-family: system-ui\, -apple-system\, system-ui\, &quot\;.SFNSText-Regular&quot\;\, sans-serif\; font-size: 14px\; white-space: pre-wrap\;" target="_blank">Scoot Horton Music</a><span style="color:rgb(29\, 33\, 41)\; font-family:system-ui\,-apple-system\,system-ui\,.sfnstext-regular\,sans-serif\; font-size:14px">\, </span><a href="https://www.facebook.com/CiarraFragaleMusic/" style="color: rgb(56\, 88\, 152)\; cursor: pointer\; text-decoration-line: none\; font-family: system-ui\, -apple-system\, system-ui\, &quot\;.SFNSText-Regular&quot\;\, sans-serif\; font-size: 14px\; white-space: pre-wrap\;" target="_blank">Ciarra Fragale</a><span style="color:rgb(29\, 33\, 41)\; font-family:system-ui\,-apple-system\,system-ui\,.sfnstext-regular\,sans-serif\; font-size:14px">\, </span><a href="https://www.facebook.com/pitchblacksunrise/" style="color: rgb(56\, 88\, 152)\; cursor: pointer\; text-decoration-line: none\; font-family: system-ui\, -apple-system\, system-ui\, &quot\;.SFNSText-Regular&quot\;\, sans-serif\; font-size: 14px\; white-space: pre-wrap\;" target="_blank">Pitch Black Sunrise</a><span style="color:rgb(29\, 33\, 41)\; font-family:system-ui\,-apple-system\,system-ui\,.sfnstext-regular\,sans-serif\; font-size:14px"> and more- so you can come enjoy some great local tunes while you hang!</span><br />\n<br />\n<span style="color:rgb(29\, 33\, 41)\; font-family:system-ui\,-apple-system\,system-ui\,.sfnstext-regular\,sans-serif\; font-size:14px">Here&#39\;s some of the vendors you can check out:</span>\n\n<ul>\n	<li><a href="https://www.facebook.com/dreaminplastic/" style="color: rgb(56\, 88\, 152)\; cursor: pointer\; text-decoration-line: none\; font-family: system-ui\, -apple-system\, system-ui\, &quot\;.SFNSText-Regular&quot\;\, sans-serif\; font-size: 14px\; white-space: pre-wrap\;" target="_blank">Dream in Plastic</a></li>\n	<li><a href="https://www.facebook.com/atomicannies/" style="color: rgb(56\, 88\, 152)\; cursor: pointer\; text-decoration-line: none\; font-family: system-ui\, -apple-system\, system-ui\, &quot\;.SFNSText-Regular&quot\;\, sans-serif\; font-size: 14px\; white-space: pre-wrap\;" target="_blank">Atomic Annie&#39\;s Accessories</a></li>\n	<li><a href="https://www.facebook.com/MollyMonroeApparel/" style="color: rgb(56\, 88\, 152)\; cursor: pointer\; text-decoration-line: none\; font-family: system-ui\, -apple-system\, system-ui\, &quot\;.SFNSText-Regular&quot\;\, sans-serif\; font-size: 14px\; white-space: pre-wrap\;" target="_blank">Molly Monroe Apparel</a></li>\n	<li><a href="https://www.facebook.com/Zombie.Petz/" style="color: rgb(56\, 88\, 152)\; cursor: pointer\; text-decoration-line: none\; font-family: system-ui\, -apple-system\, system-ui\, &quot\;.SFNSText-Regular&quot\;\, sans-serif\; font-size: 14px\; white-space: pre-wrap\;" target="_blank">Zombiepetz</a></li>\n	<li><a href="https://www.facebook.com/itsatraplando/" style="color: rgb(56\, 88\, 152)\; cursor: pointer\; text-decoration-line: none\; font-family: system-ui\, -apple-system\, system-ui\, &quot\;.SFNSText-Regular&quot\;\, sans-serif\; font-size: 14px\; white-space: pre-wrap\;" target="_blank">It&#39\;s a Trap Lando Shop</a></li>\n	<li><span style="color:rgb(29\, 33\, 41)\; font-family:system-ui\,-apple-system\,system-ui\,.sfnstext-regular\,sans-serif\; font-size:14px">Abbey Gallagher: The Poet Is In</span></li>\n	<li><a href="https://www.facebook.com/HVHRD/" style="color: rgb(56\, 88\, 152)\; cursor: pointer\; text-decoration-line: none\; font-family: system-ui\, -apple-system\, system-ui\, &quot\;.SFNSText-Regular&quot\;\, sans-serif\; font-size: 14px\; white-space: pre-wrap\;" target="_blank">Hudson Valley Horrors</a></li>\n	<li><a href="https://www.facebook.com/otherwordlywaxesandwhatever/" style="color: rgb(56\, 88\, 152)\; cursor: pointer\; text-decoration-line: none\; font-family: system-ui\, -apple-system\, system-ui\, &quot\;.SFNSText-Regular&quot\;\, sans-serif\; font-size: 14px\; white-space: pre-wrap\;" target="_blank">Other Worldly Waxes &amp\; Whatever</a></li>\n	<li><a href="https://www.facebook.com/SacredHerbsShop/" style="color: rgb(56\, 88\, 152)\; cursor: pointer\; text-decoration-line: none\; font-family: system-ui\, -apple-system\, system-ui\, &quot\;.SFNSText-Regular&quot\;\, sans-serif\; font-size: 14px\; white-space: pre-wrap\;" target="_blank">Sacred Herbs</a></li>\n	<li><a href="https://www.facebook.com/Stephanthropy/" style="color: rgb(56\, 88\, 152)\; cursor: pointer\; text-decoration-line: none\; font-family: system-ui\, -apple-system\, system-ui\, &quot\;.SFNSText-Regular&quot\;\, sans-serif\; font-size: 14px\; white-space: pre-wrap\;" target="_blank">Lou &amp\; Gee</a></li>\n	<li><a href="https://www.facebook.com/SerinasDelights/" style="color: rgb(56\, 88\, 152)\; cursor: pointer\; text-decoration-line: none\; font-family: system-ui\, -apple-system\, system-ui\, &quot\;.SFNSText-Regular&quot\;\, sans-serif\; font-size: 14px\; white-space: pre-wrap\;" target="_blank">Serina&#39\;s Delights</a></li>\n	<li><a href="https://www.facebook.com/oldbonesdesigns/" style="color: rgb(56\, 88\, 152)\; cursor: pointer\; text-decoration-line: none\; font-family: system-ui\, -apple-system\, system-ui\, &quot\;.SFNSText-Regular&quot\;\, sans-serif\; font-size: 14px\; white-space: pre-wrap\;" target="_blank">Old Bones Designs</a></li>\n	<li><a href="https://www.facebook.com/Chilling-Chachkies-318234858874665/" style="color: rgb(56\, 88\, 152)\; cursor: pointer\; text-decoration-line: none\; font-family: system-ui\, -apple-system\, system-ui\, &quot\;.SFNSText-Regular&quot\;\, sans-serif\; font-size: 14px\; white-space: pre-wrap\;" target="_blank">Chilling Chachkies</a></li>\n	<li><a href="https://www.facebook.com/craftedartsbyerinchristine/" style="color: rgb(56\, 88\, 152)\; cursor: pointer\; text-decoration-line: none\; font-family: system-ui\, -apple-system\, system-ui\, &quot\;.SFNSText-Regular&quot\;\, sans-serif\; font-size: 14px\; white-space: pre-wrap\;" target="_blank">Crafted Arts by Erin Christine</a></li>\n	<li><a href="https://www.facebook.com/pages/Arts-Of-AGoldfire/1470788896385284" style="color: rgb(56\, 88\, 152)\; cursor: pointer\; text-decoration-line: none\; font-family: system-ui\, -apple-system\, system-ui\, &quot\;.SFNSText-Regular&quot\;\, sans-serif\; font-size: 14px\; white-space: pre-wrap\;" target="_blank">Arts Of AGoldfire</a><span style="color:rgb(29\, 33\, 41)\; font-family:system-ui\,-apple-system\,system-ui\,.sfnstext-regular\,sans-serif\; font-size:14px"> </span></li>\n	<li><a href="https://www.facebook.com/RVictorious-1386460484718664/" style="color: rgb(56\, 88\, 152)\; cursor: pointer\; text-decoration-line: none\; font-family: system-ui\, -apple-system\, system-ui\, &quot\;.SFNSText-Regular&quot\;\, sans-serif\; font-size: 14px\; white-space: pre-wrap\;" target="_blank">RVictorious</a></li>\n	<li><a href="https://www.facebook.com/NYCSubwayLine/" style="color: rgb(56\, 88\, 152)\; cursor: pointer\; text-decoration-line: none\; font-family: system-ui\, -apple-system\, system-ui\, &quot\;.SFNSText-Regular&quot\;\, sans-serif\; font-size: 14px\; white-space: pre-wrap\;" target="_blank">NYC Subway Line</a></li>\n	<li><span style="color:rgb(29\, 33\, 41)\; font-family:system-ui\,-apple-system\,system-ui\,.sfnstext-regular\,sans-serif\; font-size:14px">Cellar Door</span></li>\n	<li><a href="https://www.facebook.com/LikeLethalWare/" style="color: rgb(56\, 88\, 152)\; cursor: pointer\; text-decoration-line: none\; font-family: system-ui\, -apple-system\, system-ui\, &quot\;.SFNSText-Regular&quot\;\, sans-serif\; font-size: 14px\; white-space: pre-wrap\;" target="_blank">Lethal Ware</a></li>\n	<li><a href="https://www.facebook.com/othersideofpampering/" style="color: rgb(56\, 88\, 152)\; cursor: pointer\; text-decoration-line: none\; font-family: system-ui\, -apple-system\, system-ui\, &quot\;.SFNSText-Regular&quot\;\, sans-serif\; font-size: 14px\; white-space: pre-wrap\;" target="_blank">The Other Side of Pampering</a></li>\n	<li><a href="https://www.facebook.com/deadradiopodcast/" style="color: rgb(56\, 88\, 152)\; cursor: pointer\; text-decoration-line: none\; font-family: system-ui\, -apple-system\, system-ui\, &quot\;.SFNSText-Regular&quot\;\, sans-serif\; font-size: 14px\; white-space: pre-wrap\;" target="_blank">Dead Radio Podcast</a><span style="color:rgb(29\, 33\, 41)\; font-family:system-ui\,-apple-system\,system-ui\,.sfnstext-regular\,sans-serif\; font-size:14px"> </span></li>\n	<li><a href="https://www.facebook.com/measuredtime/" style="color: rgb(56\, 88\, 152)\; cursor: pointer\; text-decoration-line: none\; font-family: system-ui\, -apple-system\, system-ui\, &quot\;.SFNSText-Regular&quot\;\, sans-serif\; font-size: 14px\; white-space: pre-wrap\;" target="_blank">Measured Time Shop</a></li>\n	<li><a href="https://www.facebook.com/stonemaplefarm/" style="color: rgb(56\, 88\, 152)\; cursor: pointer\; text-decoration-line: none\; font-family: system-ui\, -apple-system\, system-ui\, &quot\;.SFNSText-Regular&quot\;\, sans-serif\; font-size: 14px\; white-space: pre-wrap\;" target="_blank">Stone Maple Farm</a></li>\n	<li><span style="color:rgb(29\, 33\, 41)\; font-family:system-ui\,-apple-system\,system-ui\,.sfnstext-regular\,sans-serif\; font-size:14px">Nick&#39\;s Horror Stuff </span></li>\n	<li><span style="color:rgb(29\, 33\, 41)\; font-family:system-ui\,-apple-system\,system-ui\,.sfnstext-regular\,sans-serif\; font-size:14px">Life is Small Doses Photography</span></li>\n	<li><a href="https://www.facebook.com/designslestrange/" style="color: rgb(56\, 88\, 152)\; cursor: pointer\; text-decoration-line: none\; font-family: system-ui\, -apple-system\, system-ui\, &quot\;.SFNSText-Regular&quot\;\, sans-serif\; font-size: 14px\; white-space: pre-wrap\;" target="_blank">Designs Lestrange</a><span style="color:rgb(29\, 33\, 41)\; font-family:system-ui\,-apple-system\,system-ui\,.sfnstext-regular\,sans-serif\; font-size:14px"> </span></li>\n	<li><a href="https://www.facebook.com/themooninfoshop/" style="color: rgb(56\, 88\, 152)\; cursor: pointer\; text-decoration-line: none\; font-family: system-ui\, -apple-system\, system-ui\, &quot\;.SFNSText-Regular&quot\;\, sans-serif\; font-size: 14px\; white-space: pre-wrap\;" target="_blank">The Moon: Infoshop and Community Space</a><span style="color:rgb(29\, 33\, 41)\; font-family:system-ui\,-apple-system\,system-ui\,.sfnstext-regular\,sans-serif\; font-size:14px"> </span></li>\n	<li><a href="https://www.facebook.com/Sk845LLC/" style="color: rgb(56\, 88\, 152)\; cursor: pointer\; text-decoration-line: none\; font-family: system-ui\, -apple-system\, system-ui\, &quot\;.SFNSText-Regular&quot\;\, sans-serif\; font-size: 14px\; white-space: pre-wrap\;" target="_blank">Sk845</a><span style="color:rgb(29\, 33\, 41)\; font-family:system-ui\,-apple-system\,system-ui\,.sfnstext-regular\,sans-serif\; font-size:14px"> </span></li>\n	<li><a href="https://www.facebook.com/NomadicBoutique/" style="color: rgb(56\, 88\, 152)\; cursor: pointer\; text-decoration-line: none\; font-family: system-ui\, -apple-system\, system-ui\, &quot\;.SFNSText-Regular&quot\;\, sans-serif\; font-size: 14px\; white-space: pre-wrap\;" target="_blank">The Nomadic Boutique</a><span style="color:rgb(29\, 33\, 41)\; font-family:system-ui\,-apple-system\,system-ui\,.sfnstext-regular\,sans-serif\; font-size:14px"> </span></li>\n	<li><span style="color:rgb(29\, 33\, 41)\; font-family:system-ui\,-apple-system\,system-ui\,.sfnstext-regular\,sans-serif\; font-size:14px">LSTees Design </span></li>\n</ul>\n\n<h2><strong><span style="color:rgb(29\, 33\, 41)\; font-family:system-ui\,-apple-system\,system-ui\,.sfnstext-regular\,sans-serif\; font-size:14px">More to be announced- want to be a vendor? Apply here: </span><a href="https://l.facebook.com/l.php?u=https%3A%2F%2Fbit.ly%2Fds-bazaar-signup%3Ffbclid%3DIwAR11FLcrSnhFiPAX7ZZTX-o4UsmVAk72-sHSms4Wv6RYa0gOpZH3jkSC6cI&amp\;h=AT3zbqKaRAASUN9J_2d7hPWOTRVwBZl-XArdlUZM76S97-Ulv-vmCFflAo7axD5iY3wKVYfmCa1u5l6ZVwChycEqp3B4Mfn1HQusSgvUrwHVD2C7dsWu6sENQy_7ZyQ2hEA3btBCC2RigH-OAEWeMrI" rel="nofollow noopener" style="color: rgb(56\, 88\, 152)\; cursor: pointer\; text-decoration-line: none\; font-family: system-ui\, -apple-system\, system-ui\, &quot\;.SFNSText-Regular&quot\;\, sans-serif\; font-size: 14px\; white-space: pre-wrap\;" target="_blank">http://bit.ly/ds-bazaar-signup</a><br />\n<span style="color:rgb(29\, 33\, 41)\; font-family:system-ui\,-apple-system\,system-ui\,.sfnstext-regular\,sans-serif\; font-size:14px">More information is available at </span><a href="http://darksiderecords.com/?fbclid=IwAR0rdFxEHgKLSRgH9nFFjZUMq-mgqqhTgjznzK7A8WzEvAvgiFm5utbSD-Q" rel="nofollow noopener" style="color: rgb(56\, 88\, 152)\; cursor: pointer\; text-decoration-line: none\; font-family: system-ui\, -apple-system\, system-ui\, &quot\;.SFNSText-Regular&quot\;\, sans-serif\; font-size: 14px\; white-space: pre-wrap\;" target="_blank">darksiderecords.com</a></strong></h2>\n
LOCATION:Darkside Records 611 Dutchess tpk Poughkeepsie\, NY 12603
UID:e.2770.10480830
SEQUENCE:3
DTSTAMP:20260423T031154Z
URL:https://business.dcrcoc.org/events/details/darkside-bazaar-outdoor-flea-market-10480830
END:VEVENT

END:VCALENDAR
