BEGIN:VCALENDAR
VERSION:2.0
PRODID:-//ChamberMaster//Event Calendar 2.0//EN
METHOD:PUBLISH
X-PUBLISHED-TTL:P3D
REFRESH-INTERVAL:P3D
CALSCALE:GREGORIAN
BEGIN:VEVENT
DTSTART:20180715T210000Z
DTEND:20180716T000000Z
X-MICROSOFT-CDO-ALLDAYEVENT:FALSE
SUMMARY:David Powers on the Patio at The Alley Kat!
DESCRIPTION:Join us for our first summer patio event with David Powers! Enjoy 14 varieties of draft beer\, cocktails and the smooth acoustic sounds of David Powers!\nCheck out the event details on our Facebook page:\n\nDavid Powers on the Patio at The Alley Kat!
X-ALT-DESC;FMTTYPE=text/html:<p><span style="color:rgb(29\, 33\, 41)\; font-family:system-ui\,-apple-system\,blinkmacsystemfont\,.sfnstext-regular\,sans-serif\; font-size:14px">Join us for our first summer patio event with David Powers! Enjoy 14 varieties of draft beer\, cocktails and the smooth acoustic sounds of David Powers!</span></p>\nCheck out the event details on our Facebook page:<br />\n<a href="https://www.facebook.com/events/195939974432813/">David Powers on the Patio at The Alley Kat!</a>
LOCATION:The Alley Kat 1677 US 9 Wappingers Falls\, New York\, NY 12590
UID:e.2770.10479328
SEQUENCE:3
DTSTAMP:20260425T155226Z
URL:https://business.dcrcoc.org/events/details/david-powers-on-the-patio-at-the-alley-kat-07-15-2018-10479328
END:VEVENT

END:VCALENDAR
