BEGIN:VCALENDAR
VERSION:2.0
PRODID:-//ChamberMaster//Event Calendar 2.0//EN
METHOD:PUBLISH
X-PUBLISHED-TTL:P3D
REFRESH-INTERVAL:P3D
CALSCALE:GREGORIAN
BEGIN:VEVENT
DTSTART:20180218T013000Z
DTEND:20180218T043000Z
X-MICROSOFT-CDO-ALLDAYEVENT:FALSE
SUMMARY:David Powers plays The Alley Kat!
DESCRIPTION:Join us for the debut performance of David Powers! Enjoy great food\, a fully stocked bar with 14 varieties of draft beer while you listen to the very talented David Powers!\nCheck out the event details on our Facebook page:\n\nDavid Powers plays The Alley Kat!
X-ALT-DESC;FMTTYPE=text/html:<p><span style="color:rgb(75\, 79\, 86)\; font-family:system-ui\,-apple-system\,blinkmacsystemfont\,.sfnstext-regular\,sans-serif\; font-size:14px">Join us for the debut performance of David Powers! Enjoy great food\, a fully stocked bar with 14 varieties of draft beer while you listen to the very talented David Powers!</span></p>\nCheck out the event details on our Facebook page:<br />\n<a href="https://www.facebook.com/events/986798048138732/">David Powers plays The Alley Kat!</a>
LOCATION:The Alley Kat 1677 US 9 Wappingers Falls\, New York\, NY 12590
UID:e.2770.10476773
SEQUENCE:3
DTSTAMP:20260425T232146Z
URL:https://business.dcrcoc.org/events/details/david-powers-plays-the-alley-kat-10476773
END:VEVENT

END:VCALENDAR
