BEGIN:VCALENDAR
VERSION:2.0
PRODID:-//ChamberMaster//Event Calendar 2.0//EN
METHOD:PUBLISH
X-PUBLISHED-TTL:P3D
REFRESH-INTERVAL:P3D
CALSCALE:GREGORIAN
BEGIN:VEVENT
DTSTART:20210630T140000Z
DTEND:20210630T153000Z
X-MICROSOFT-CDO-ALLDAYEVENT:FALSE
SUMMARY:DCC Hospitality and Tourism Program Virtual Open House
DESCRIPTION:Take your career in hospitality and tourism to the next level with Dutchess Community College's new degree program. Whether you're just entering the field or you're already in the industry\, DCC's Tourism and Hospitality A.A.S. degree will help you get ahead in your career! \n\n\n\nWant to know more? Stop in to a virtual information session on June 30. Led by Program Chair Maureen Peters Gittelman\, the session will feature a program presentation\, followed by a Q&A to answer any questions you may have. Register here for the info session.\n\n\n\nDesigned to equip you with the skills you need to stay ahead in the region's dynamic and fast-paced hospitality and tourism industry\, DCC's program has a strong business perspective with a curriculum packed with career-relevant coursework\, hands-on learning and internship opportunities. The program will also provide you with the resources and knowledge to move into supervisory and mid-management positions in lodging\, food service\, tourism\, and hospitality.
X-ALT-DESC;FMTTYPE=text/html:<span style="font-size:14px"><span style="font-family:arial\,helvetica\,sans-serif"><span style="color:#333333">Take your career in hospitality and tourism to the next level with Dutchess Community College&#39\;s new degree program.&nbsp\;</span>Whether you&rsquo\;re just entering the field or you&rsquo\;re already in the industry\, DCC&#39\;s&nbsp\;<span style="color:#333333"><a href="http://www.sunydutchess.edu/hospitality" style="color:blue\;"><span style="color:#005cb5">Tourism and Hospitality A.A.S. degree</span></a></span>&nbsp\;will help you get ahead in your career!&nbsp\;<br />\n<br />\nWant to know more? Stop in to a virtual information session on June 30. Led by Program Chair Maureen Peters Gittelman\, the session will feature a program presentation\, followed by a Q&amp\;A to answer any questions you may have. <a href="https://connect.sunydutchess.edu/portal/campusvisit?id=80897597-97b1-47ad-9705-31db7341c34d" style="color:blue\;">Register here for the info session</a>.<br />\n<br />\n<span style="color:black">Designed to equip you with the skills you need to stay ahead in the region&rsquo\;s dynamic and fast-paced hospitality and tourism industry\, DCC&#39\;s program has a strong business perspective with a curriculum packed with career-relevant coursework\, hands-on learning and internship opportunities. The program will also provide you with the resources and knowledge to move into supervisory and mid-management positions in lodging\, food service\, tourism\, and hospitality.</span></span></span>
LOCATION:Virtual Open House
UID:e.2770.10485234
SEQUENCE:3
DTSTAMP:20260421T094458Z
URL:https://business.dcrcoc.org/events/details/dcc-hospitality-and-tourism-program-virtual-open-house-10485234
END:VEVENT

END:VCALENDAR
