BEGIN:VCALENDAR
VERSION:2.0
PRODID:-//ChamberMaster//Event Calendar 2.0//EN
METHOD:PUBLISH
X-PUBLISHED-TTL:P3D
REFRESH-INTERVAL:P3D
CALSCALE:GREGORIAN
BEGIN:VEVENT
DTSTART:20191107T224500Z
DTEND:20191108T020000Z
X-MICROSOFT-CDO-ALLDAYEVENT:FALSE
SUMMARY:DCIC 2nd Annual Gala Award Dinner
DESCRIPTION:The DCIC 2nd Annual Gala Award Dinner will honor the Reverend Gail Burger with the Rabbi Erwin Zimet Humanitarian Award on Thursday\, November 7 from 5:45 p.m. at The Poughkeepsie Grand Hotel and Conference Center (40 Civic Center Plaza\, Poughkeepsie\, NY 12601). Retired NYS Supreme Court Judge Albert Rosenblatt will be the guest speaker. For tickets and sponsorship information\, visit www.dutchesscountyinterfaith.org or email us at office@dutchesscountyinterfaith.org We look forward to seeing you there!
X-ALT-DESC;FMTTYPE=text/html:The DCIC 2nd Annual Gala Award Dinner will honor the Reverend Gail Burger with the Rabbi Erwin Zimet Humanitarian Award on Thursday\, November 7 from 5:45 p.m. at The Poughkeepsie Grand Hotel and Conference Center (40 Civic Center Plaza\, Poughkeepsie\, NY 12601). Retired NYS Supreme Court Judge Albert Rosenblatt will be the guest speaker. For tickets and sponsorship information\, visit www.dutchesscountyinterfaith.org or email us at office@dutchesscountyinterfaith.org We look forward to seeing you there!
LOCATION:The Poughkeepsie Grand Hotel and Conference Center (40 Civic Center Plaza\, Poughkeepsie\, NY 12601)
UID:e.2770.10481415
SEQUENCE:3
DTSTAMP:20260422T182934Z
URL:https://business.dcrcoc.org/events/details/dcic-2nd-annual-gala-award-dinner-10481415
END:VEVENT

END:VCALENDAR
