BEGIN:VCALENDAR
VERSION:2.0
PRODID:-//ChamberMaster//Event Calendar 2.0//EN
METHOD:PUBLISH
X-PUBLISHED-TTL:P3D
REFRESH-INTERVAL:P3D
CALSCALE:GREGORIAN
BEGIN:VEVENT
DTSTART:20171203T230000Z
DTEND:20171204T030000Z
X-MICROSOFT-CDO-ALLDAYEVENT:FALSE
SUMMARY:DCSPCA Holiday Gift for the Animals
DESCRIPTION:Annual Holiday Gift for the Animals\, Christos\, Poughkeepsie NY Cocktail reception\, silent auction\, dinner and dessert.
X-ALT-DESC;FMTTYPE=text/html:Annual Holiday Gift for the Animals\, Christos\, Poughkeepsie NY Cocktail reception\, silent auction\, dinner and dessert.
LOCATION:Christos\, Poughkeepsie\, NY
UID:e.2770.10475705
SEQUENCE:3
DTSTAMP:20260426T004942Z
URL:https://business.dcrcoc.org/events/details/dcspca-holiday-gift-for-the-animals-10475705
END:VEVENT

END:VCALENDAR
