BEGIN:VCALENDAR
VERSION:2.0
PRODID:-//ChamberMaster//Event Calendar 2.0//EN
METHOD:PUBLISH
X-PUBLISHED-TTL:P3D
REFRESH-INTERVAL:P3D
CALSCALE:GREGORIAN
BEGIN:VEVENT
DTSTART:20171220T123000Z
DTEND:20171220T140000Z
X-MICROSOFT-CDO-ALLDAYEVENT:FALSE
SUMMARY:December Contact Breakfast
DESCRIPTION:The annual tradition returns with performances by the Arlington High School Holiday Brass Choir\, Franklin D. Roosevelt High School's "The Prez Men\," Poughkeepsie High School Chorus\, and Roy C. Ketcham High School Chamber Choir. Come share in the joy of the season and toast to a safe and happy holiday with chocolate milk\, thanks to Hudson Valley Fresh.\n\nSponsored by Poughkeepsie Journal Media\n\n\n\nSpecial thanks to The Poughkeepsie Grand Hotel for sponsoring the student's breakfast. \n\n\n\nAs you all know\, there are many people in need of our assistance. The Chamber's Ambassador committee has partnered with our Workforce Development Center to collect canned and dry goods at our Contact Breakfast. Your donations are greatly appreciated.
X-ALT-DESC;FMTTYPE=text/html:<p>The annual tradition returns with performances by the Arlington High School Holiday Brass Choir\, Franklin D. Roosevelt High School&#39\;s &quot\;The Prez Men\,&quot\; Poughkeepsie High School Chorus\, and Roy C. Ketcham High School Chamber Choir. Come share in the joy of the season and toast to a safe and happy holiday with&nbsp\;chocolate milk\, thanks to Hudson Valley Fresh.</p>\n\n<p>Sponsored by <a href="http://poughkeepsiejournalmedia.com" target="_blank">Poughkeepsie Journal Media</a><br />\n<br />\n<span style="color: rgb(51\, 51\, 51)\; font-family: sans-serif\, Arial\, Verdana\, &quot\;Trebuchet MS&quot\;\; font-size: 13px\; background-color: rgb(255\, 255\, 255)\;">Special thanks to The Poughkeepsie Grand Hotel for sponsoring the student&#39\;s breakfast.&nbsp\;</span><br />\n<br />\nAs you all know\, there are many people in need of our assistance. The Chamber&#39\;s Ambassador committee has partnered with our Workforce Development Center to collect canned and dry goods at our Contact Breakfast. Your donations are greatly appreciated.</p>\n
LOCATION:The Poughkeepsie Grand Hotel & Conference Center 40 Civic Center Plaza\, Poughkeepsie\, NY 12601
UID:e.2770.10474021
SEQUENCE:3
DTSTAMP:20260426T020335Z
URL:https://business.dcrcoc.org/events/details/december-contact-breakfast-10474021
END:VEVENT

END:VCALENDAR
