BEGIN:VCALENDAR
VERSION:2.0
PRODID:-//ChamberMaster//Event Calendar 2.0//EN
METHOD:PUBLISH
X-PUBLISHED-TTL:P3D
REFRESH-INTERVAL:P3D
CALSCALE:GREGORIAN
BEGIN:VEVENT
DTSTART:20201216T130000Z
DTEND:20201216T140000Z
X-MICROSOFT-CDO-ALLDAYEVENT:FALSE
SUMMARY:December Contact Breakfast
DESCRIPTION:Annual Holiday Breakfast featuring sounds of the season\, performed by local musicians. \n\n\n\nTo Register\, Please Click Here\n\n\n\nSponsored By: Poughkeepsie Journal/Local IQ
X-ALT-DESC;FMTTYPE=text/html:<p><br />\n<span style="color:#000000\;"><span style="font-size:18px\;"><span style="font-family:times new roman\;">Annual Holiday Breakfast featuring sounds of the season\, performed by local musicians.&nbsp\;</span></span><br />\n<br />\n<span style="font-family: &quot\;times new roman&quot\;\; font-size: 18px\;">To Register\, Please Click</span></span><span style="font-family: &quot\;times new roman&quot\;\; font-size: 18px\;">&nbsp\;</span><strong style="font-family: &quot\;times new roman&quot\;\; font-size: 18px\;"><a href="https://dcrcoc-org.zoom.us/webinar/register/WN_hIXpP_ujRry7x0MEmvx4vA" target="_blank"><span style="color: rgb(0\, 0\, 255)\;">Here</span></a></strong><br />\n<br />\n<span style="font-size:18px\;"><span style="font-family:times new roman\;"><strong><span style="color:#000000\;">Sponsored By:</span> <a href="https://www.poughkeepsiejournal.com/" target="_blank"><span style="color:#0000FF\;">Poughkeepsie Journal/Local IQ</span></a></strong></span></span></p>\n
LOCATION:
UID:e.2770.10482552
SEQUENCE:3
DTSTAMP:20260421T192039Z
URL:https://business.dcrcoc.org/events/details/december-contact-breakfast-10482552
END:VEVENT

END:VCALENDAR
