BEGIN:VCALENDAR
VERSION:2.0
PRODID:-//ChamberMaster//Event Calendar 2.0//EN
METHOD:PUBLISH
X-PUBLISHED-TTL:P3D
REFRESH-INTERVAL:P3D
CALSCALE:GREGORIAN
BEGIN:VEVENT
DTSTART:20180722T003000Z
DTEND:20180722T033000Z
X-MICROSOFT-CDO-ALLDAYEVENT:FALSE
SUMMARY:Deep Chemistry at The Alley Kat!
DESCRIPTION:Hudson Valley Rock/Groove/Jam Trio Deep Chemistry debuts at The Alley Kat on Saturday July 21st! Come party while enjoying great original & cover music!!\n\n\n\n \n\n\n\n\n\n\nCheck out the event details on our Facebook page:\n\nDeep Chemistry at The Alley Kat!
X-ALT-DESC;FMTTYPE=text/html:<div>\n<div>\n<div>\n<div>\n<div>\n<div>\n<div><span style="color:rgb(29\, 33\, 41)\; font-family:system-ui\,-apple-system\,blinkmacsystemfont\,.sfnstext-regular\,sans-serif\; font-size:14px">Hudson Valley Rock/Groove/Jam Trio Deep Chemistry debuts at The Alley Kat on Saturday July 21st! Come party while enjoying great original &amp\; cover music!!</span><br />\n<br />\n&nbsp\;</div>\n</div>\n</div>\n</div>\n</div>\n</div>\n</div>\nCheck out the event details on our Facebook page:<br />\n<a href="https://www.facebook.com/events/793048474199244/">Deep Chemistry at The Alley Kat!</a>
LOCATION:The Alley Kat 1677 US 9 Wappingers Falls\, New York\, NY 12590
UID:e.2770.10479344
SEQUENCE:3
DTSTAMP:20260425T155036Z
URL:https://business.dcrcoc.org/events/details/deep-chemistry-at-the-alley-kat-10479344
END:VEVENT

END:VCALENDAR
