BEGIN:VCALENDAR
VERSION:2.0
PRODID:-//ChamberMaster//Event Calendar 2.0//EN
METHOD:PUBLISH
X-PUBLISHED-TTL:P3D
REFRESH-INTERVAL:P3D
CALSCALE:GREGORIAN
BEGIN:VEVENT
DTSTART:20210209T180000Z
DTEND:20210209T190000Z
X-MICROSOFT-CDO-ALLDAYEVENT:FALSE
SUMMARY:Dementia Conversations: Lunch & Learn
DESCRIPTION:Helpful tips to assist families with difficult conversations related to dementia\, including going to the doctor\, deciding when to stop driving and making legal and financial plans. This program is primarily for those who have a family member or close friend beginning to experience Alzheimer's or another dementia. To register\, call 800.272.3900.
X-ALT-DESC;FMTTYPE=text/html:<p>Helpful tips to assist families with difficult conversations related to dementia\, including going to the doctor\, deciding when to stop driving and making legal and financial plans. This program is primarily for those who have a family member or close friend beginning to experience Alzheimer&rsquo\;s or another dementia. To register\, call 800.272.3900.</p>\n
LOCATION:Westchester County
UID:e.2770.10484964
SEQUENCE:3
DTSTAMP:20260421T160348Z
URL:https://business.dcrcoc.org/events/details/dementia-conversations-lunch-learn-10484964
END:VEVENT

END:VCALENDAR
