BEGIN:VCALENDAR
VERSION:2.0
PRODID:-//ChamberMaster//Event Calendar 2.0//EN
METHOD:PUBLISH
X-PUBLISHED-TTL:P3D
REFRESH-INTERVAL:P3D
CALSCALE:GREGORIAN
BEGIN:VEVENT
DTSTART:20180322T213000Z
DTEND:20180323T020000Z
X-MICROSOFT-CDO-ALLDAYEVENT:FALSE
SUMMARY:Designer Bag Bingo
DESCRIPTION:The Mid-Hudson Civic Center is hosting Designer Bag Bingo! All of your favorite designer bags will be up for grabs featuring the latest from Coach\, Kate Spade\, Michael Kors & more! Oh and did we mention each ticket includes the first cocktail on us! $40 per person\, 8 bingo cards\, vendors\, 50/50 and raffles! Come on out get a table together of friends for a fun evening. Sponsor a table for $400.
X-ALT-DESC;FMTTYPE=text/html:The Mid-Hudson Civic Center is hosting Designer Bag Bingo! All of your favorite designer bags will be up for grabs featuring the latest from Coach\, Kate Spade\, Michael Kors &amp\; more! Oh and did we mention each ticket includes the first cocktail on us! $40 per person\, 8 bingo cards\, vendors\, 50/50 and raffles! Come on out get a table together of friends for a fun evening. Sponsor a table for $400.
LOCATION:Mid Hudson Civic Center
UID:e.2770.10476863
SEQUENCE:3
DTSTAMP:20260425T210453Z
URL:https://business.dcrcoc.org/events/details/designer-bag-bingo-03-22-2018-10476863
END:VEVENT

END:VCALENDAR
