BEGIN:VCALENDAR
VERSION:2.0
PRODID:-//ChamberMaster//Event Calendar 2.0//EN
METHOD:PUBLISH
X-PUBLISHED-TTL:P3D
REFRESH-INTERVAL:P3D
CALSCALE:GREGORIAN
BEGIN:VEVENT
DTSTART:20181023T160000Z
DTEND:20181024T040000Z
X-MICROSOFT-CDO-ALLDAYEVENT:FALSE
SUMMARY:Dine Out for Blythedale Children's Hospital
DESCRIPTION:The 1st annual "Dine Out for Blythedale Children's Hospital" fundraiser is a special event where more than 130+ participating restaurants will donate a portion of their proceeds to Blythedale\, to benefit the Hospital's Infant Unit. Dozens of restaurants from throughout Dutchess County\, including some from The Culinary Institute of America\, have joined.
X-ALT-DESC;FMTTYPE=text/html:The 1st annual &quot\;Dine Out for Blythedale Children&#39\;s Hospital&quot\; fundraiser is a special event where more than 130+ participating restaurants will donate a portion of their proceeds to Blythedale\, to benefit the Hospital&rsquo\;s Infant Unit. Dozens of restaurants from throughout Dutchess County\, including some from The Culinary Institute of America\, have joined.
LOCATION:Participating restaurants from Dutchess County\, the Hudson Valley & beyond
UID:e.2770.10479460
SEQUENCE:3
DTSTAMP:20260425T115244Z
URL:https://business.dcrcoc.org/events/details/dine-out-for-blythedale-children-s-hospital-10479460
END:VEVENT

END:VCALENDAR
