BEGIN:VCALENDAR
VERSION:2.0
PRODID:-//ChamberMaster//Event Calendar 2.0//EN
METHOD:PUBLISH
X-PUBLISHED-TTL:P3D
REFRESH-INTERVAL:P3D
CALSCALE:GREGORIAN
BEGIN:VEVENT
DTSTART:20190611T220000Z
DTEND:20190611T233000Z
X-MICROSOFT-CDO-ALLDAYEVENT:FALSE
SUMMARY:Do You Have Varicose Veins? Or Suffer from Pain\, Inflammation\, or Arthritis?
DESCRIPTION:Join us for a free seminar to learn more about some of the new pain management services available at Orthopedic Associates of Dutchess County. We can diagnose and treat Venous Reflux Disease and we offer OPTIONS Laser Therapy\, an effective and non-invasive way to relieve symptoms of pain\, inflammation\, and arthritis.\n\nPresented by Vishal Rekhala\, DO and Karl\, Ziermann\, DO
X-ALT-DESC;FMTTYPE=text/html:<p style="margin-left:&#10\; margin-right:0in"><span style="color:black\; font-family:verdana\,sans-serif\; font-size:7.5pt">Join us for a free seminar to learn more about some of the new pain management services available at Orthopedic Associates of Dutchess County. We can diagnose and treat Venous Reflux Disease and we offer OPTIONS Laser Therapy\, an effective and non-invasive way to relieve symptoms of pain\, inflammation\, and arthritis.</span></p>\n\n<p style="margin-left:&#10\; margin-right:0in"><span style="color:black\; font-family:verdana\,sans-serif\; font-size:7.5pt">Presented by Vishal Rekhala\, DO and Karl\, Ziermann\, DO</span></p>\n
LOCATION:Orthopedic Associates of Dutchess County 1910 South Road l Poughkeepsie\, NY 12601
UID:e.2770.10480756
SEQUENCE:3
DTSTAMP:20260423T025426Z
URL:https://business.dcrcoc.org/events/details/do-you-have-varicose-veins-or-suffer-from-pain-inflammation-or-arthritis-10480756
END:VEVENT

END:VCALENDAR
