BEGIN:VCALENDAR
VERSION:2.0
PRODID:-//ChamberMaster//Event Calendar 2.0//EN
METHOD:PUBLISH
X-PUBLISHED-TTL:P3D
REFRESH-INTERVAL:P3D
CALSCALE:GREGORIAN
BEGIN:VEVENT
DTSTART:20180429T003000Z
DTEND:20180429T033000Z
X-MICROSOFT-CDO-ALLDAYEVENT:FALSE
SUMMARY:Doctor Magkneetoe at The Alley Kat
DESCRIPTION:Doctor Magkneetoe is seeing patients at The Alley Kat! Join us as the good doctor performs his magnificent medicine show while enjoying one of 14 varieties of beer on tap or one of our mixed drink specials! Remember\, you should see the doctor regularly\, so show up for a good healthy dose of the doctor!\n\n \n\n\n\n\n\n\nCheck out the event details on our Facebook page:\n\nDoctor Magkneetoe at The Alley Kat
X-ALT-DESC;FMTTYPE=text/html:<div>\n<div>\n<div>\n<div>\n<div>\n<div>\n<div><span style="color:rgb(29\, 33\, 41)\; font-family:system-ui\,-apple-system\,blinkmacsystemfont\,.sfnstext-regular\,sans-serif\; font-size:14px">Doctor Magkneetoe is seeing patients at The Alley Kat! Join us as the good doctor performs his magnificent medicine show while enjoying one of 14 varieties of beer on tap or one of our mixed drink specials! Remember\, you should see the doctor regularly\, so show up for a good healthy dose of the doctor!</span><br />\n&nbsp\;</div>\n</div>\n</div>\n</div>\n</div>\n</div>\n</div>\nCheck out the event details on our Facebook page:<br />\n<a href="https://www.facebook.com/events/230470307506039/">Doctor Magkneetoe at The Alley Kat</a>
LOCATION:The Alley Kat 1677 US 9 Wappingers Falls\, New York\, NY 12590
UID:e.2770.10477696
SEQUENCE:3
DTSTAMP:20260425T210648Z
URL:https://business.dcrcoc.org/events/details/doctor-magkneetoe-at-the-alley-kat-10477696
END:VEVENT

END:VCALENDAR
