BEGIN:VCALENDAR
VERSION:2.0
PRODID:-//ChamberMaster//Event Calendar 2.0//EN
METHOD:PUBLISH
X-PUBLISHED-TTL:P3D
REFRESH-INTERVAL:P3D
CALSCALE:GREGORIAN
BEGIN:VEVENT
DTSTART:20201117T190000Z
DTEND:20201117T210000Z
X-MICROSOFT-CDO-ALLDAYEVENT:FALSE
SUMMARY:DocuWare’s Free Webinar: How state and local government IT secure data\, automate processes and improve service to citizens with a cloud solution
DESCRIPTION:Register now for DocuWare's free webinar on Tuesday\, November 17 at 2:00 p.m. EST: How state and local government IT secure data\, automate processes and improve service to citizens with a cloud solution\n\nCIOs or IT leaders at state and local governments need to ensure top-notch security and that staff can easily access documents. This is all while staying within budget and working with limited resources. How do you ease the IT burden\, streamline processes and deliver a fast\, relevant experience for citizens?\n\n\n\nJoin DocuWare to experience how to:\n\n	Secure and link your physical and digital records management\n	Streamline citizen request processes\n	Access documents from one centralized platform\, even while in other applications\n\n Can't make it? Register anyway to receive the recording.
X-ALT-DESC;FMTTYPE=text/html:<br />\n<span style="font-size:14px\;"><span style="font-family:tahoma\;"><strong><a href="https://nam04.safelinks.protection.outlook.com/?url=https%3A%2F%2Fstart.docuware.com%2Finfo%2Fregister-state-local-government-it-secure-data-automate-process-improve-service-citizens-cloud&amp\;data=04%7C01%7Crichk%40dcrcoc.org%7C1d6c03e88ce142ab1fcf08d8880f5bd9%7C2f12d5574b0742e1bc30171797d71f6b%7C1%7C1%7C637408946872967006%7CUnknown%7CTWFpbGZsb3d8eyJWIjoiMC4wLjAwMDAiLCJQIjoiV2luMzIiLCJBTiI6Ik1haWwiLCJXVCI6Mn0%3D%7C1000&amp\;sdata=mUU0qwv24dc%2BLZUzh329ocGwwsKD7QRzhSv3OKTD1mc%3D&amp\;reserved=0" target="_blank"><span style="color:#0000FF\;">Register now</span></a></strong> for DocuWare&rsquo\;s free webinar on Tuesday\, November 17 at 2:00 p.m. EST: <strong>How state and local government IT secure data\, automate processes and improve service to citizens with a cloud solution</strong><br />\nCIOs or IT leaders at state and local governments need to ensure top-notch security and that staff can easily access documents. This is all while staying within budget and working with limited resources. How do you ease the IT burden\, streamline processes and deliver a fast\, relevant experience for citizens?<br />\n<br />\n<a href="https://nam04.safelinks.protection.outlook.com/?url=https%3A%2F%2Fstart.docuware.com%2Finfo%2Fregister-state-local-government-it-secure-data-automate-process-improve-service-citizens-cloud&amp\;data=04%7C01%7Crichk%40dcrcoc.org%7C1d6c03e88ce142ab1fcf08d8880f5bd9%7C2f12d5574b0742e1bc30171797d71f6b%7C1%7C1%7C637408946872977008%7CUnknown%7CTWFpbGZsb3d8eyJWIjoiMC4wLjAwMDAiLCJQIjoiV2luMzIiLCJBTiI6Ik1haWwiLCJXVCI6Mn0%3D%7C1000&amp\;sdata=F%2FYOMscgwgpSKnERcuCUykaEQ8GjH%2BRXSbhElNkSEe0%3D&amp\;reserved=0" target="_blank"><span style="color:#0000FF\;"><strong>Join DocuWare</strong></span></a> to experience how to:</span></span>\n<ul>\n	<li><span style="font-size:14px\;"><span style="font-family:tahoma\;">Secure and link your physical and digital records management</span></span></li>\n	<li><span style="font-size:14px\;"><span style="font-family:tahoma\;">Streamline citizen request processes</span></span></li>\n	<li><span style="font-size:14px\;"><span style="font-family:tahoma\;">Access documents from one centralized platform\, even while in other applications</span></span></li>\n</ul>\n<span style="font-size:14px\;"><span style="font-family:tahoma\;"> Can&#39\;t make it? <strong><a href="https://nam04.safelinks.protection.outlook.com/?url=https%3A%2F%2Fstart.docuware.com%2Finfo%2Fregister-state-local-government-it-secure-data-automate-process-improve-service-citizens-cloud&amp\;data=04%7C01%7Crichk%40dcrcoc.org%7C1d6c03e88ce142ab1fcf08d8880f5bd9%7C2f12d5574b0742e1bc30171797d71f6b%7C1%7C1%7C637408946872977008%7CUnknown%7CTWFpbGZsb3d8eyJWIjoiMC4wLjAwMDAiLCJQIjoiV2luMzIiLCJBTiI6Ik1haWwiLCJXVCI6Mn0%3D%7C1000&amp\;sdata=F%2FYOMscgwgpSKnERcuCUykaEQ8GjH%2BRXSbhElNkSEe0%3D&amp\;reserved=0" target="_blank"><span style="color:#0000FF\;">Register anyway</span></a></strong> to receive the recording.</span></span>
LOCATION:
UID:e.2770.10484783
SEQUENCE:3
DTSTAMP:20260421T210222Z
URL:https://business.dcrcoc.org/events/details/docuware-s-free-webinar-how-state-and-local-government-it-secure-data-automate-processes-and-improve-service-to-citizens-with-a-cloud-solution-10484783
END:VEVENT

END:VCALENDAR
