BEGIN:VCALENDAR
VERSION:2.0
PRODID:-//ChamberMaster//Event Calendar 2.0//EN
METHOD:PUBLISH
X-PUBLISHED-TTL:P3D
REFRESH-INTERVAL:P3D
CALSCALE:GREGORIAN
BEGIN:VEVENT
DTSTART:20191030T130000Z
DTEND:20191030T160000Z
X-MICROSOFT-CDO-ALLDAYEVENT:FALSE
SUMMARY:Don't Get Burned: Fraud Detection and Prevention for the Not-for-Profit Sector
DESCRIPTION:Whether your budget is $50\,000 or $50\,000\,000\, your organization could be a victim of fraud. "Don't Get Burned" can prepare you to be pro-active in protecting your finances by strengthening your internal controls and assessing potential risks.\n\nJoin staff from New York State Comptroller Tom DiNapoli's State Government Accountability Division and Dutchess County Comptroller Robin Lois for an engaging and informative training seminar on Fraud Detection and Prevention for the nonprofit sector. This event is sponsored by Community Foundations of the Hudson Valley\, the Dyson Foundation\, and United Way of the Dutchess-Orange Region.\n\nThe seminar is FREE to attend\, and breakfast will be provided courtesy of our sponsors. \n\n \n\nEligible accountants will be able to receive 3 CPEs. An extensive packet of resource material will be provided to all attendees. \n\n \n\nComptroller DiNapoli's office has designed this training course for nonprofit executive directors\, program managers\, finance and human resources staff\, and board members as well as municipal officials.\n\n \n\nAfter the session\, you will receive a certificate of completion from the Comptroller's Office. This certificate will reassure your donors and funders that you have taken preventative steps in protecting your organization. \n\n         \n\nPre-registration is required by October 23rd. To learn more and register\, click here or visit http://www.dutchessny.gov/DontGetBurned
X-ALT-DESC;FMTTYPE=text/html:<p style="margin: 0px 0px 10px\;"><span style="margin: 0px\; color: black\; font-family: &quot\;Arial&quot\;\,sans-serif\;"><font size="3">Whether your budget is $50\,000 or $50\,000\,000\, your organization&nbsp\;could be a victim of fraud.&nbsp\;<b>&quot\;Don&#39\;t Get Burned&quot\;</b> can prepare you to be pro-active in protecting your finances by strengthening your internal controls and assessing potential risks.</font></span></p>\n\n<p style="margin: 0px 0px 10px\;"><span style="margin: 0px\; color: black\; font-family: &quot\;Arial&quot\;\,sans-serif\;"><font size="3">Join staff from New York State Comptroller Tom DiNapoli&rsquo\;s State Government Accountability Division and Dutchess County Comptroller Robin Lois for an&nbsp\;engaging and&nbsp\;informative training seminar on Fraud Detection and Prevention for the nonprofit sector. This event is sponsored by Community Foundations of the Hudson Valley\, the Dyson Foundation\, and United Way of the Dutchess-Orange Region.</font></span></p>\n\n<p style="margin: 0px\;"><b><span style="margin: 0px\; color: black\; font-family: &quot\;Arial&quot\;\,sans-serif\;"><font size="3">The seminar is FREE to attend\, and breakfast will be provided courtesy of our sponsors. </font></span></b></p>\n\n<p style="margin: 0px\;"><b><span style="margin: 0px\; color: black\; font-family: &quot\;Arial&quot\;\,sans-serif\;"><font size="3">&nbsp\;</font></span></b></p>\n\n<p style="margin: 0px\;"><font size="3"><b><span style="margin: 0px\; color: black\; font-family: &quot\;Arial&quot\;\,sans-serif\;">Eligible accountants will be able to receive 3 CPEs.</span></b><span style="margin: 0px\; color: black\; font-family: &quot\;Arial&quot\;\,sans-serif\;"> An extensive packet of resource material will be provided to all attendees.</span></font><span style="margin: 0px\; color: blue\; font-family: &quot\;Arial&quot\;\,sans-serif\; font-size: 10pt\;">&nbsp\;</span></p>\n\n<p style="margin: 0px\;"><b><span style="margin: 0px\; color: blue\; font-family: &quot\;Arial&quot\;\,sans-serif\; font-size: 10pt\;">&nbsp\;<u5:p></u5:p></span></b></p>\n\n<p style="margin: 0px\;"><span style="margin: 0px\; color: black\; font-family: &quot\;Arial&quot\;\,sans-serif\;"><font size="3">Comptroller DiNapoli&#39\;s office has designed this training course for nonprofit executive directors\, program managers\, finance and human resources staff\, and board members as well as municipal officials.</font></span></p>\n\n<p style="margin: 0px\;"><span style="margin: 0px\; color: blue\; font-family: &quot\;Arial&quot\;\,sans-serif\; font-size: 10pt\;">&nbsp\;<u5:p></u5:p></span></p>\n\n<p style="margin: 0px\;"><span style="margin: 0px\; color: black\; font-family: &quot\;Arial&quot\;\,sans-serif\;"><font size="3">After the session\, you will receive a certificate of completion from the Comptroller&#39\;s Office. This certificate will reassure your donors and funders that you have taken preventative steps in protecting your organization. </font></span></p>\n\n<p style="margin: 0px\;"><b><span style="margin: 0px\; color: rgb(10\, 116\, 219)\; font-family: &quot\;Arial&quot\;\,sans-serif\; font-size: 12pt\;">&nbsp\;&nbsp\;&nbsp\;&nbsp\;&nbsp\;&nbsp\;&nbsp\;&nbsp\;&nbsp\;</span></b></p>\n\n<p style="margin: 0px\;"><span style="margin: 0px\; color: black\; font-family: &quot\;Arial&quot\;\,sans-serif\;"><font size="3">Pre-registration is required by October 23</font><sup>rd</sup><font size="3">. To learn more and register\, </font></span><a href="https://nam04.safelinks.protection.outlook.com/?url=http%3A%2F%2Fwww.dutchessny.gov%2FDontGetBurned&amp\;data=02%7C01%7Cfrank%40dcrcoc.org%7C662941094c7d440f3c2808d7476c9bf3%7C2f12d5574b0742e1bc30171797d71f6b%7C1%7C1%7C637056404126558846&amp\;sdata=HBOLZTQbk7UuY4FpcW07yb2brazdqym63yFzrrrnda8%3D&amp\;reserved=0" originalsrc="http://www.dutchessny.gov/DontGetBurned" shash="g4caFZbWxLYU8Hx3hg286nWjt9PTy+s233qdYW3gKO9gGT/MWGjT4wYUe5hgKaa9xAasjKroxIZXDGh9taoGk11KUoaqnVccypPKroRLTm11lyImIMB4NheoJfjG6Ecxi8TP4FWaGdouJAHObMai2rqNqy/RVHB7LpHlpjuekpQ="><span style="margin: 0px\; font-family: &quot\;Arial&quot\;\,sans-serif\;"><font color="#0000ff" size="3">click here or visit http://www.dutchessny.gov/DontGetBurned</font></span></a></p>\n
LOCATION:Dutchess County Law Enforcement Center Training Room 108 Parker Ave\, Poughkeepsie
UID:e.2770.10481484
SEQUENCE:3
DTSTAMP:20260422T183324Z
URL:https://business.dcrcoc.org/events/details/don-t-get-burned-fraud-detection-and-prevention-for-the-not-for-profit-sector-10481484
END:VEVENT

END:VCALENDAR
