BEGIN:VCALENDAR
VERSION:2.0
PRODID:-//ChamberMaster//Event Calendar 2.0//EN
METHOD:PUBLISH
X-PUBLISHED-TTL:P3D
REFRESH-INTERVAL:P3D
CALSCALE:GREGORIAN
BEGIN:VEVENT
DTSTART:20180118T190000Z
DTEND:20180118T200000Z
X-MICROSOFT-CDO-ALLDAYEVENT:FALSE
SUMMARY:Downsizing Made Easier - Best Strategies for De-Cluttering & Selling
DESCRIPTION:Downsizing Made Easier \n\nBest Strategies for De-Cluttering & Selling \n\nTH U R S D A Y \n\nJANUARY 18\, 2018 \n\n2pm* \n\nArbor Ridge at Brookmeade\n\n11 Mountain Laurel Lane Rhinebeck\, NY 12572 \n\n\n\n\n\n\n INSIDE SECRETS REVEALED\n\n          TOP 10 SELLING STRATEGIES & TOP 10 DOWNSIZING STRATEGIES ? \n\n          RESOURCE LISTS GALORE \n\n\n\n\n\nComplimentary Admission & Refreshments \n\n\n\n\nPresented by Allison Morelle & Colleen Ashe Call (315) 335-9809 or e-mail allison.morelle@coldwellbanker.com to reserve your seat by January 15th \n\n\n\n\n\n*Make-up date is Thursday February 1st at 2pm if Rhinebeck Schools are closed due to inclement weather.
X-ALT-DESC;FMTTYPE=text/html:<div>\n<div>\n<p><span style="font-size:36px"><strong>Downsizing Made Easier </strong></span></p>\n\n<p><span style="font-family:arialmt\; font-size:24.000000pt">Best Strategies for De-Cluttering &amp\; Selling </span></p>\n\n<p><span style="font-family:cambria\; font-size:22.000000pt">TH U R S D A Y </span></p>\n\n<p><strong>JANUARY 18\, 2018 </strong></p>\n\n<p><strong>2pm* </strong></p>\n\n<p><strong>Arbor Ridge at Brookmeade</strong><br />\n<span style="font-family:cambria\; font-size:16.000000pt">11 Mountain Laurel Lane Rhinebeck\, NY 12572 </span></p>\n</div>\n</div>\n\n<div>\n<div>\n<div>\n<p><span style="color:rgb(100.000000%\, 100.000000%\, 100.000000%)\; font-family:wingdings\; font-size:28.000000pt">&nbsp\;</span><strong>INSIDE SECRETS REVEALED</strong><br />\n&nbsp\;&nbsp\;&nbsp\;&nbsp\;&nbsp\;&nbsp\;&nbsp\;&nbsp\;&nbsp\;&nbsp\;<strong>TOP 10 SELLING STRATEGIES &amp\;&nbsp\;TOP 10 DOWNSIZING STRATEGIES </strong><span style="color:rgb(100.000000%\, 100.000000%\, 100.000000%)\; font-family:wingdings\; font-size:28.000000pt">? </span><br />\n&nbsp\;&nbsp\;&nbsp\;&nbsp\;&nbsp\;&nbsp\;&nbsp\;&nbsp\;&nbsp\;&nbsp\;<strong>RESOURCE LISTS GALORE </strong></p>\n</div>\n</div>\n</div>\n\n<div>\n<p><em>Complimentary Admission &amp\; Refreshments </em></p>\n\n<div>\n<div>\n<div>\n<p><em>Presented by </em><span style="font-family:cambria\; font-size:24pt">Allison Morelle &amp\; Colleen Ashe </span><span style="font-family:cambria\; font-size:14pt">Call (315) 335-9809 or e-mail </span><span style="color:rgb(0\, 0\, 255)\; font-family:cambria\; font-size:14pt">allison.morelle@coldwellbanker.com</span><span style="color:rgb(0\, 0\, 255)">&nbsp\;</span><span style="font-family:cambria\; font-size:14pt">to reserve your seat by January 15th</span>&nbsp\;</p>\n</div>\n</div>\n\n<div>\n<div>\n<p><span style="font-family:cambria\; font-size:12.000000pt">*Make-up date is Thursday February </span><span style="font-family:cambria\; font-size:12.000000pt">1</span><span style="font-family:cambria\; font-size:8.000000pt">st</span><span style="font-family:cambria\; font-size:8.000000pt"> </span><span style="font-family:cambria\; font-size:12.000000pt">at 2pm if Rhinebeck Schools are closed due to inclement weather.</span></p>\n</div>\n</div>\n</div>\n</div>\n
LOCATION:Arbor Ridge at Brookmeade 11 Mountain Laurel Lane Rhinebeck\, NY 12572
UID:e.2770.10476702
SEQUENCE:3
DTSTAMP:20260426T004504Z
URL:https://business.dcrcoc.org/events/details/downsizing-made-easier-best-strategies-for-de-cluttering-selling-10476702
END:VEVENT

END:VCALENDAR
