BEGIN:VCALENDAR
VERSION:2.0
PRODID:-//ChamberMaster//Event Calendar 2.0//EN
METHOD:PUBLISH
X-PUBLISHED-TTL:P3D
REFRESH-INTERVAL:P3D
CALSCALE:GREGORIAN
BEGIN:VEVENT
DTSTART:20180924T130000Z
DTEND:20180924T210000Z
X-MICROSOFT-CDO-ALLDAYEVENT:FALSE
SUMMARY:Drive for Devereux - Golf Tournament
DESCRIPTION:Devereux New York will be holding its first-ever golf tournament\, Drive for Devereux\, on Monday\, September 24\, 2018 at the College Hill Golf Course in Poughkeepsie. REGISTER ONLINE! NYDrive.devereux.org The event will include 18 holes of golf\, a BBQ lunch on the course\, and a celebration dinner at Tavern 23. Prizes will be awarded to the first\, second and third-place teams as well as to the closest to the pin and longest drive. Proceeds will benefit the individuals we serve to provide enhanced opportunities for recreation and cultural opportunities. Devereux Advanced Behavioral Health changes lives by unlocking and nurturing human potential for people living with emotional\, behavioral or cognitive differences. Sponsorship Opportunities Hole in One Sponsor (3) $1\,000 -Logo and recognition on carts\; two golfers Double Eagle Sponsor (9) $500 - Individual Hole Sign on Course Eagle Sponsor (9) $250 - Logo on Sponsor Hole Sign Birdie Sponsor (9) $100 - Logo on Sponsor Hole Sign Donations of items from the community are welcome and will be used to provide raffle and golfer prizes. Donors will be recognized at the event.
X-ALT-DESC;FMTTYPE=text/html:Devereux New York will be holding its first-ever golf tournament\, Drive for Devereux\, on Monday\, September 24\, 2018 at the College Hill Golf Course in Poughkeepsie. REGISTER ONLINE! NYDrive.devereux.org The event will include 18 holes of golf\, a BBQ lunch on the course\, and a celebration dinner at Tavern 23. Prizes will be awarded to the first\, second and third-place teams as well as to the closest to the pin and longest drive. Proceeds will benefit the individuals we serve to provide enhanced opportunities for recreation and cultural opportunities. Devereux Advanced Behavioral Health changes lives by unlocking and nurturing human potential for people living with emotional\, behavioral or cognitive differences. Sponsorship Opportunities Hole in One Sponsor (3) $1\,000 -Logo and recognition on carts\; two golfers Double Eagle Sponsor (9) $500 - Individual Hole Sign on Course Eagle Sponsor (9) $250 - Logo on Sponsor Hole Sign Birdie Sponsor (9) $100 - Logo on Sponsor Hole Sign Donations of items from the community are welcome and will be used to provide raffle and golfer prizes. Donors will be recognized at the event.
LOCATION:College Hill Golf Course 149 North Clinton St. Poughkeepsie\, NY 12601
UID:e.2770.10479714
SEQUENCE:3
DTSTAMP:20260425T131448Z
URL:https://business.dcrcoc.org/events/details/drive-for-devereux-golf-tournament-10479714
END:VEVENT

END:VCALENDAR
