BEGIN:VCALENDAR
VERSION:2.0
PRODID:-//ChamberMaster//Event Calendar 2.0//EN
METHOD:PUBLISH
X-PUBLISHED-TTL:P3D
REFRESH-INTERVAL:P3D
CALSCALE:GREGORIAN
BEGIN:VEVENT
DTSTART:20210526T150000Z
DTEND:20210526T190000Z
X-MICROSOFT-CDO-ALLDAYEVENT:FALSE
SUMMARY:Drive Thru Food Drive - Supporting Veterans
DESCRIPTION:The Pines at Poughkeepsie is hosting a Drive Thru Food Drive to benefit the Veterans in partnership with MHA of Dutchess County.
X-ALT-DESC;FMTTYPE=text/html:The Pines at Poughkeepsie is hosting a Drive Thru Food Drive to benefit the Veterans in partnership with MHA of Dutchess County.
LOCATION:The Pines at Poughkeepsie 100 Franklin Street Poughkeepsie\, NY 12601
UID:e.2770.10485149
SEQUENCE:3
DTSTAMP:20260421T112129Z
URL:https://business.dcrcoc.org/events/details/drive-thru-food-drive-supporting-veterans-10485149
END:VEVENT

END:VCALENDAR
